BEGIN:VCALENDAR
VERSION:2.0
PRODID:http://www.infomax-online.de/imxeventmanager/
METHOD:PUBLISH
BEGIN:VTIMEZONE
TZID:Europe/Berlin
TZURL:http://tzurl.org/zoneinfo-outlook/Europe/Berlin
X-LIC-LOCATION:Europe/Berlin
END:VTIMEZONE
BEGIN:VEVENT
UID:69ec9fd1a0288
LOCATION:Platz der Deutschen Einheit 1, 20457 Hamburg
SUMMARY;ENCODING=QUOTED-PRINTABLE:ABGESAGT: Chloe Flower
DESCRIPTION;ENCODING=QUOTED-PRINTABLE:Chloe Flower muss ihr Konzert in der Elbphilharmonie leider absagen.=0D=0ATickets können dort zurückgegeben werden, wo sie gekauft wurden.=0D=0A=0D=0ABESETZUNG=0D=0A=0D=0ACHLOE FLOWER Klavier=0D=0A
URL;VALUE=URI:https://hamburgwhl.infomaxnet.de/standard_widget_de/e-chloe-flower-1?eventDateId=29455260&widgetToken=22vcqFKw4GE.&
CLASS:PUBLIC
DTSTART:20260427T193000
DTSTAMP:20260425T130449
END:VEVENT
END:VCALENDAR