BEGIN:VCALENDAR
VERSION:2.0
PRODID:http://www.infomax-online.de/imxeventmanager/
METHOD:PUBLISH
BEGIN:VTIMEZONE
TZID:Europe/Berlin
TZURL:http://tzurl.org/zoneinfo-outlook/Europe/Berlin
X-LIC-LOCATION:Europe/Berlin
END:VTIMEZONE
BEGIN:VEVENT
UID:69ec2f1fd01f2
LOCATION:Schmiedekoppel 114, 23611 Bad Schwartau
SUMMARY;ENCODING=QUOTED-PRINTABLE:Konfirmation I
DESCRIPTION;ENCODING=QUOTED-PRINTABLE:VERANSTALTER=0D=0A=0D=0A	* Ev.-Luth. Kirchengemeinde Schwartau=0D=0A[https://www.nordkirche.de/institution/?nkci=4780]=0D=0A=0D=0A
URL;VALUE=URI:https://hamburgwhl.infomaxnet.de/standard_widget_de/e-konfirmation-i?eventDateId=29452979&widgetToken=22vcqFKw4GE.&
CLASS:PUBLIC
DTSTART:20260425T093000
DTSTAMP:20260425T050359
END:VEVENT
END:VCALENDAR