BEGIN:VCALENDAR
VERSION:2.0
PRODID:http://www.infomax-online.de/imxeventmanager/
METHOD:PUBLISH
BEGIN:VTIMEZONE
TZID:Europe/Berlin
TZURL:http://tzurl.org/zoneinfo-outlook/Europe/Berlin
X-LIC-LOCATION:Europe/Berlin
END:VTIMEZONE
BEGIN:VEVENT
UID:69e66bcd0bd52
LOCATION:Deichtorstraße 1-2, 20095 Hamburg
SUMMARY;ENCODING=QUOTED-PRINTABLE:Philip Montgomery – American Cycles
DESCRIPTION;ENCODING=QUOTED-PRINTABLE:Philip Montgomery – American Cycles=0D=0A
URL;VALUE=URI:https://hamburgwhl.infomaxnet.de/standard_widget_de/e-philip-montgomery-american-cycles-1?eventDateId=29441785&widgetToken=22vcqFKw4GE.&
CLASS:PUBLIC
DTSTART:20260422T110000
DTSTAMP:20260420T200917
END:VEVENT
END:VCALENDAR