BEGIN:VCALENDAR
VERSION:2.0
PRODID:http://www.infomax-online.de/imxeventmanager/
METHOD:PUBLISH
BEGIN:VTIMEZONE
TZID:Europe/Berlin
TZURL:http://tzurl.org/zoneinfo-outlook/Europe/Berlin
X-LIC-LOCATION:Europe/Berlin
END:VTIMEZONE
BEGIN:VEVENT
UID:69ea0ffb49c14
LOCATION:Deichtorstraße 1-2, 20095 Hamburg
SUMMARY;ENCODING=QUOTED-PRINTABLE:Huguette Caland – A Life in a Few Lines
DESCRIPTION;ENCODING=QUOTED-PRINTABLE:Huguette Caland – A Life in a Few Lines=0D=0A
URL;VALUE=URI:https://hamburgwhl.infomaxnet.de/standard_widget_de/e-huguette-caland-a-life-in-a-few-lines-1?eventDateId=29435516&widgetToken=22vcqFKw4GE.&
CLASS:PUBLIC
DTSTART:20260419T110000
DTSTAMP:20260423T142635
END:VEVENT
END:VCALENDAR