BEGIN:VCALENDAR
VERSION:2.0
PRODID:http://www.infomax-online.de/imxeventmanager/
METHOD:PUBLISH
BEGIN:VTIMEZONE
TZID:Europe/Berlin
TZURL:http://tzurl.org/zoneinfo-outlook/Europe/Berlin
X-LIC-LOCATION:Europe/Berlin
END:VTIMEZONE
BEGIN:VEVENT
UID:69e845bc1b43f
LOCATION:Alter Postweg 30, 21075 Hamburg
SUMMARY;ENCODING=QUOTED-PRINTABLE:Das magische Amulett
DESCRIPTION;ENCODING=QUOTED-PRINTABLE:Musical Kids Hamburg - Das magische Amulett=0D=0A=0D=0ARollstuhlfahrer*innen wählen bitte die Telefonnummer +49 (0)30 - 40=0D=0A818 824 (Ortstarif). Unsere kompetenten Kolleginnen und Kollegen aus=0D=0Adem Call Center helfen Ihnen täglich von 10 Uhr - 18 Uhr schnell und=0D=0Asicher weiter.=0D=0A=0D=0ADAS MAGISCHE AMULETT=0D=0AFamilienmusical=0D=0A=0D=0AAls der junge Taschendieb Samuel auf einem verlassenen Bahnhof der=0D=0Ajungen, einäugigen Prinzessin Coco, die auf der Suche nach ihrem=0D=0ABruder Malesu ist, ein wertvolles Amulett stiehlt, ahnt er nicht, dass=0D=0Aer sie damit den bösen Mächten ausgeliefert hat. Das „eisige=0D=0ALuftwesen“ erscheint und entführt sie in die Tiefe. Als Samuel=0D=0Abegreift, welch großen Fehler er begangen hat, macht er sich=0D=0Areumütig auf die Suche nach der kleinen Prinzessin und landet im=0D=0AFabelland.=0D=0ADort trifft er auf sehr seltsame und lustige Fabelwesen, die im helfen=0D=0Awollen, die gefangene Prinzessin zu finden und zu befreien.=0D=0ADas Fabelland wird von der ebenso wunderschönen wie bitterbösen=0D=0AKönigin Anouschka regiert, die die eigentliche Königin – ihre=0D=0ASchwester Elisabeth (die auch Coco’s und Malesu’s Mutter ist) –=0D=0Ain den Kerker hat werfen lassen. =0D=0ABeim Versuch, Elisabeth und die mit ihr zusammen im Kerker sitzende=0D=0ACoco zu befreien, werden fast alle Fabelwesen außer dem Wolfskönig=0D=0Avom eisigen Luftwesen zu Eis verwandelt, während Samuel sich von=0D=0AAnouschka verführen lässt und die Seiten wechselt.=0D=0ADer Wolfskönig findet das magische Amulett der Prinzessin Coco und=0D=0Aentdeckt, dass es magische Kräfte hat. Mit Hilfe des Amuletts befreit=0D=0Aer seine Freunde und bringt Samuel dazu, zu erkennen, dass niemand=0D=0Aanders als er selbst der von allen gesuchte Retter Malesu ist.=0D=0ADas „magische Amulett“ ist ein zauberhaftes, farbenprächtiges=0D=0AMusical mit wunderschöner Musik und der eindringlichen Botschaft,=0D=0Adass es sich immer lohnt, gut zu sein und sich für seine Freunde=0D=0Aeinzusetzen.=0D=0A=0D=0A?22./23. April 2026 18.00 Uhr?=0D=0AFriedrich-Ebert-Halle, Harburg=0D=0A=0D=0A
URL;VALUE=URI:https://hamburgwhl.infomaxnet.de/standard_widget_de/e-das-magische-amulett?eventDateId=29424416&widgetToken=22vcqFKw4GE.&
CLASS:PUBLIC
DTSTART:20260422T180000
DTSTAMP:20260422T055124
END:VEVENT
END:VCALENDAR