BEGIN:VCALENDAR
VERSION:2.0
PRODID:http://www.infomax-online.de/imxeventmanager/
METHOD:PUBLISH
BEGIN:VTIMEZONE
TZID:Europe/Berlin
TZURL:http://tzurl.org/zoneinfo-outlook/Europe/Berlin
X-LIC-LOCATION:Europe/Berlin
END:VTIMEZONE
BEGIN:VEVENT
UID:69e7fed787ebe
LOCATION:Am Markt , 21335 Lüneburg
SUMMARY;ENCODING=QUOTED-PRINTABLE:17. Komische Nacht Lüneburg
DESCRIPTION;ENCODING=QUOTED-PRINTABLE:Teilnehmende Locations:=0D=0A=0D=0A- KLIPPO Lüneburg=0D=0A=0D=0A- Capitol=0D=0A=0D=0A- KRONE Brauhaus=0D=0A=0D=0A- Kulturforum Lüneburg=0D=0A=0D=0A- Mälzer Brauhaus=0D=0A=0D=0A- Schröders Garten=0D=0A=0D=0A- Wabnitz Weinbar=0D=0A=0D=0ADie Komische Nacht ist eines der erfolgreichsten Live-Comedy-Formate=0D=0Ain Deutschland. In den schönsten Cafés, Restaurants und=0D=0ASpielstätten einer Stadt erlebt ihr einen kurzweiligen und=0D=0Aausgelassenen Abend - mit bester Unterhaltung durch verschiedene=0D=0AComedians, Kabarettisten und anderen Komiker*innen. Dabei ist keine=0D=0AKomische Nacht wie die andere.=0D=0A=0D=0ADie Komische Nacht bietet einen bunten und aufregenden Querschnitt=0D=0Adurch die aktuelle Comedyszene in Deutschland. In jedem Spielort=0D=0Atreten an einem Abend bis zu 5 Comedians jeweils ca. 20 Minuten auf.=0D=0ADas Beste: Bei der Komischen Nacht müsst nicht ihr von Lokal zu Lokal=0D=0Awandern, um verschiedene Comedians sehen zu können. Ihr braucht euch=0D=0Alediglich eine Eintrittskarte für euer Lieblingslokal holen und=0D=0Abekommt von uns mehrere Künstler*innen „serviert". Bei der=0D=0AKomischen Nacht sind es nämlich die Comedians, die zwischen den=0D=0ASpielorten umherziehen. Runter von der einen Bühne, rauf auf die=0D=0Anächste. Das ist sowohl für die Künstler*innen als auch für das=0D=0APublikum ein wahrhaftiger Comedy-Marathon.=0D=0A=0D=0AEgal ob Restaurant oder Studi-Kneipe, ob Kulturzentrum oder=0D=0AFriseursalon, ob Kino-Saal oder Cocktail-Bar – die Spielstätten der=0D=0AKomischen Nacht sind genauso vielfältig wie die Comedians, die hier=0D=0Aauftreten. Überall gleich ist jedoch der Spaßfaktor. Bei der=0D=0AKomischen Nacht steht das Lachen im Vordergrund. Und weil alleine=0D=0Alachen zwar geht, mitunter aber auch skurril wirken kann, geht man am=0D=0Abesten mit Freund*innen, Kolleg*innen oder – je nach Härtegrad=0D=0Aeures Humors - den Schwiegereltern zu einer Komischen Nacht. Gemeinsam=0D=0Akönnt ihr lachen, lecker essen und trinken und habt in den Pausen=0D=0Azwischen den Auftritten sogar noch genügend Zeit, um euch mal wieder=0D=0Aentspannt zu unterhalten.=0D=0A=0D=0ADie erste Komische Nacht zog übrigens 2008 durch die Oldenburger=0D=0AInnenstadt. Mittlerweile findet dieser einzigartige Comedy-Marathon=0D=0Aregelmäßig in über 40 deutschen Städten (u.a. in Bielefeld,=0D=0AFrankfurt, Hannover, Kassel, Lübeck, Münster und Oldenburg) statt.=0D=0A
URL;VALUE=URI:https://hamburgwhl.infomaxnet.de/standard_widget_de/e-17-komische-nacht-lueneburg-6?eventDateId=29421821&widgetToken=22vcqFKw4GE.&
CLASS:PUBLIC
DTSTART:20260421T180000
DTSTAMP:20260422T004855
END:VEVENT
END:VCALENDAR