BEGIN:VCALENDAR
VERSION:2.0
PRODID:http://www.infomax-online.de/imxeventmanager/
METHOD:PUBLISH
BEGIN:VTIMEZONE
TZID:Europe/Berlin
TZURL:http://tzurl.org/zoneinfo-outlook/Europe/Berlin
X-LIC-LOCATION:Europe/Berlin
END:VTIMEZONE
BEGIN:VEVENT
UID:69e7cddfc658e
LOCATION:Sandstraße 4, 25524 Itzehoe
SUMMARY;ENCODING=QUOTED-PRINTABLE:PopTalk - Quiz Night
DESCRIPTION;ENCODING=QUOTED-PRINTABLE:Ein musikalisches Quiz in bester britischer Pub-Manier.=0D=0A
URL;VALUE=URI:https://hamburgwhl.infomaxnet.de/standard_widget_de/e-poptalk-quiz-night?eventDateId=29418837&widgetToken=22vcqFKw4GE.&
CLASS:PUBLIC
DTSTART:20260421T193000
DTSTAMP:20260421T211959
END:VEVENT
END:VCALENDAR