BEGIN:VCALENDAR
VERSION:2.0
PRODID:http://www.infomax-online.de/imxeventmanager/
METHOD:PUBLISH
BEGIN:VTIMEZONE
TZID:Europe/Berlin
TZURL:http://tzurl.org/zoneinfo-outlook/Europe/Berlin
X-LIC-LOCATION:Europe/Berlin
END:VTIMEZONE
BEGIN:VEVENT
UID:69e9d2a9c3082
LOCATION:Schmiedestraße 9, 23730 Neustadt in Holstein
SUMMARY;ENCODING=QUOTED-PRINTABLE:ANKERPUNKT
DESCRIPTION;ENCODING=QUOTED-PRINTABLE:VERANSTALTER=0D=0A=0D=0A	* Ev.-Luth. Kirchengemeinde Neustadt in Holstein=0D=0A[https://www.nordkirche.de/institution/?nkci=263]=0D=0A=0D=0A
URL;VALUE=URI:https://hamburgwhl.infomaxnet.de/standard_widget_de/e-ankerpunkt-65-1?eventDateId=29402524&widgetToken=22vcqFKw4GE.&
CLASS:PUBLIC
DTSTART:20260423T160000
DTSTAMP:20260423T100457
END:VEVENT
END:VCALENDAR