BEGIN:VCALENDAR
VERSION:2.0
PRODID:http://www.infomax-online.de/imxeventmanager/
METHOD:PUBLISH
BEGIN:VTIMEZONE
TZID:Europe/Berlin
TZURL:http://tzurl.org/zoneinfo-outlook/Europe/Berlin
X-LIC-LOCATION:Europe/Berlin
END:VTIMEZONE
BEGIN:VEVENT
UID:69e6459a9f46c
LOCATION:Ferdinandstraße 12, 20095 Hamburg
SUMMARY;ENCODING=QUOTED-PRINTABLE:ATISHAs JUNGBRUNNEN / Electro & Disco Dance Mix
DESCRIPTION;ENCODING=QUOTED-PRINTABLE:Line Up: Abendkasse: 13€ inkl. Garderobe=0D=0A=0D=0ATaucht ein in den Jungbrunnen und lasst euch von einem nie enden=0D=0Awollenden Klangteppich aus Electronic, Disco und Dancemusic mitnehmen.=0D=0AGetragen von pumpenden Bässen und fesselnden Beats geht ihr auf eine=0D=0AReise durch Soundwelten, die euch bis zum Morgengrauen tanzen lassen!=0D=0A=0D=0AFür diejenigen, die es verstehen zu feiern =0D=0Aund zu tanzen, ist das Leben ein Fest. Um zu =0D=0Atanzen, musst Du nicht auf morgen warten - =0D=0Adenn morgen gibt es nicht - das Fest wird=0D=0Ajetzt gefeiert, jetzt, hier, in diesem Augenblick.=0D=0A=0D=0AOsho, aus "The goose is out"=0D=0A
URL;VALUE=URI:https://hamburgwhl.infomaxnet.de/standard_widget_de/e-atishas-jungbrunnen-electro-disco-dance-mix-7?eventDateId=29298916&widgetToken=22vcqFKw4GE.&
CLASS:PUBLIC
DTSTART:20260424T210000
DTSTAMP:20260420T172618
END:VEVENT
END:VCALENDAR