BEGIN:VCALENDAR
VERSION:2.0
PRODID:http://www.infomax-online.de/imxeventmanager/
METHOD:PUBLISH
BEGIN:VTIMEZONE
TZID:Europe/Berlin
TZURL:http://tzurl.org/zoneinfo-outlook/Europe/Berlin
X-LIC-LOCATION:Europe/Berlin
END:VTIMEZONE
BEGIN:VEVENT
UID:69eacd6b7e20f
LOCATION:Marienstraße 31, 23795 Bad Segeberg
SUMMARY;ENCODING=QUOTED-PRINTABLE:Kindertheater des Monats: Mein kleines großes Zimmer
DESCRIPTION;ENCODING=QUOTED-PRINTABLE: =0D=0A=0D=0AKindertheater des Monats=0D=0A=0D=0Ain der Jugendakademie, Marienstr. 31, Bad Segeberg=0D=0A=0D=0AFreitag, 24. April 2026 um 15 Uhr=0D=0A=0D=0AMEIN KLEINES GROSSES ZIMMER=0D=0ATANZKOMPAGNIE MEMORY WAX =0D=0A=0D=0ADaniel erwacht in seinem Zimmer. Was ist das? Sieht aus wie ein Kissen=0D=0Aund eine ganz normale Bettdecke. Jetzt erwacht das Spiel. Das Kissen=0D=0Afür den Kopf wird Essen in einem Topf? Eine Matratze wird zur Tatze?=0D=0AIns Land der Fantasie fahren wir! Daniel, wir tanzen mit dir! Mein=0D=0Akleines großes Zimmer ist ein Solo-Tanzstück für die=0D=0AAllerjüngsten. Es lädt sein Publikum ein, ganz nah heran zu kommen.=0D=0A=0D=0A| Spiel: Daniel Staley | Choreografie: Miguel Azcue, Johanna Jonasson=0D=0A| Ausstattung: Miguel Azcue, Johanna Jonasson | Musik: Johannes=0D=0ABurström =0D=0A| Dauer: 30 Minuten | Altersempfehlung: 2-5 Jahre=0D=0A=0D=0AErwachsene: 5,00€=0D=0A=0D=0AKinder: 4,00€       =0D=0A=0D=0AUm Voranmeldung wird gebeten unter: 04551-95 910=0D=0A=0D=0A =0D=0A
URL;VALUE=URI:https://hamburgwhl.infomaxnet.de/standard_widget_de/e-kindertheater-des-monats-mein-kleines-grosses-zimmer?eventDateId=29240243&widgetToken=22vcqFKw4GE.&
CLASS:PUBLIC
DTSTART:20260424T150000
DTSTAMP:20260424T035451
END:VEVENT
END:VCALENDAR