BEGIN:VCALENDAR
VERSION:2.0
PRODID:http://www.infomax-online.de/imxeventmanager/
METHOD:PUBLISH
BEGIN:VTIMEZONE
TZID:Europe/Berlin
TZURL:http://tzurl.org/zoneinfo-outlook/Europe/Berlin
X-LIC-LOCATION:Europe/Berlin
END:VTIMEZONE
BEGIN:VEVENT
UID:69ea32358af20
LOCATION:Von-Marschalk-Straße , 27612 Loxstedt
SUMMARY;ENCODING=QUOTED-PRINTABLE:Wochenmarkt Loxstedt
DESCRIPTION;ENCODING=QUOTED-PRINTABLE:Jeden Donnerstag=0D=0A=0D=0ADer Loxstedter Wochenmarkt findet jeden Donnerstag von 8 bis 12 Uhr=0D=0Aauf dem Marktplatz in der Ortsmitte an der Von-Marschalk-Straße=0D=0Astatt.=0D=0A=0D=0AVeranstalter: Gemeinde Loxstedt=0D=0ATelefonnummer: 04744 4811=0D=0A
URL;VALUE=URI:https://hamburgwhl.infomaxnet.de/standard_widget_de/e-wochenmarkt-loxstedt-1?eventDateId=29208721&widgetToken=22vcqFKw4GE.&
CLASS:PUBLIC
DTSTART:20260423T080000
DTSTAMP:20260423T165237
END:VEVENT
END:VCALENDAR