BEGIN:VCALENDAR
VERSION:2.0
PRODID:http://www.infomax-online.de/imxeventmanager/
METHOD:PUBLISH
BEGIN:VTIMEZONE
TZID:Europe/Berlin
TZURL:http://tzurl.org/zoneinfo-outlook/Europe/Berlin
X-LIC-LOCATION:Europe/Berlin
END:VTIMEZONE
BEGIN:VEVENT
UID:69e66f108eabb
LOCATION:Ferdinandstraße 12, 20095 Hamburg
SUMMARY;ENCODING=QUOTED-PRINTABLE:SPH MUSIC MASTERS
DESCRIPTION;ENCODING=QUOTED-PRINTABLE:HAMBURG=0D=0A=0D=0ADu hast Bock auf neue Musik?=0D=0A?Du möchtest wissen, wer in deiner Stadt die neuen Local Heroes=0D=0Awerden und vielleicht sogar deine Lieblingsmusiker:innen von Morgen=0D=0Aentdecken?=0D=0A?Du möchtest mitentscheiden, wer in die nächste Runde kommt?=0D=0A?Dann komm zu den SPH Music Masters!=0D=0ADich erwartet ein spannender Abend voller Live-Musik und sehenswerten=0D=0AMusiker:innen, die um den Einzug ins !FINALE! kämpfen. =0D=0A=0D=0A?PROGRAMM, FLYER, TICKETS UND WEITERE INFOS:=0D=0A=0D=0Awww.sph-music-masters.de [https://www.sph-music-masters.de]=0D=0A=0D=0ADie SPH Music Masters sind der größte Wettbewerb für Musiker:innen=0D=0Ain Deutschland, Österreich und der Schweiz. Neben Preisen im=0D=0AGesamtwert von 100.000€, z. B. Studioaufnahmen, Videodrehs,=0D=0AInstrumente, Equipment, Coachings, Workshops, Lyric-Videos und=0D=0ASachpreise unserer namhaften Partner (u. a. MusicHub, Thomann,=0D=0AFocusrite, Shure, Adam Audio, Novation, Radio Bob) gibt es bis zu=0D=0A250€ Cash pro Show und ein umfassendes Förderpaket mit Gutscheinen=0D=0Aund Vergünstigungen für alles, was Musiker:innen benötigen!=0D=0ASchenke den besten Acts des Abends deine Stimme und entscheide selbst,=0D=0Awelche Künstler:innen DU in der nächsten Runde sehen willst. Das=0D=0AGesamtergebnis setzt sich dabei aus 50% Jury- und 50% Publikumsstimmen=0D=0Azusammen.=0D=0ADu hast Lust, mit Deiner Band, als Duo oder Solokünstler:in=0D=0Ateilzunehmen? Meldet Euch jetzt an unter www.sph-music-masters.de. Bei=0D=0Auns sind alle Altersklassen, Formationen und Genres herzlich=0D=0Awillkommen!=0D=0A
URL;VALUE=URI:https://hamburgwhl.infomaxnet.de/standard_widget_de/e-sph-music-masters-15?eventDateId=29208642&widgetToken=22vcqFKw4GE.&
CLASS:PUBLIC
DTSTART:20260425T193000
DTSTAMP:20260420T202312
END:VEVENT
END:VCALENDAR