BEGIN:VCALENDAR
VERSION:2.0
PRODID:http://www.infomax-online.de/imxeventmanager/
METHOD:PUBLISH
BEGIN:VTIMEZONE
TZID:Europe/Berlin
TZURL:http://tzurl.org/zoneinfo-outlook/Europe/Berlin
X-LIC-LOCATION:Europe/Berlin
END:VTIMEZONE
BEGIN:VEVENT
UID:69ec0cfe6d648
LOCATION:Johannes-Brahms-Platz , 20355 Hamburg
SUMMARY;ENCODING=QUOTED-PRINTABLE:Klassische Philharmonie Bonn
DESCRIPTION;ENCODING=QUOTED-PRINTABLE:Ein einziger, atmender Ton eröffnet den Abend: In der Vocalise von=0D=0ASergei Rachmaninoff entfaltet sich Gesang ohne Worte. Das Adagio=0D=0Aschwebt zwischen Melancholie und Wärme, zwischen innerer Einkehr und=0D=0Aweit gespannter Orchesterfarbe – Musik als reine Empfindung,=0D=0Ajenseits der Sprache. Mit dem Vierten Klavierkonzert führt Ludwig van=0D=0ABeethoven in eine neue Dimension des Dialogs. Nicht das Orchester,=0D=0Asondern das Klavier beginnt – leise, tastend, poetisch. Aus diesem=0D=0Aintimen Moment entwickelt sich ein Werk von außergewöhnlicher=0D=0ABalance: lyrische Weite im ersten Satz, existenzieller Widerstreit im=0D=0AAndante, tänzerische Befreiung im finalen Rondo. Solist des Abends=0D=0Aist Seth Schultheis, Gewinner der Beethoven Telekom Competition, der=0D=0Adieses Konzert als dramatisches Zwiegespräch zwischen Individuum und=0D=0AKollektiv gestaltet.=0D=0A=0D=0ANach der Pause öffnet sich der Vorhang zu einer Welt aus Farben,=0D=0ADüften und Abenteuern: Scheherazade von Nikolai Rimsky-Korsakov ist=0D=0Aorchestrale Erzählkunst in Vollendung. Inspiriert von=0D=0A»Tausendundeine Nacht« entfaltet sich ein Klangrausch aus=0D=0Aschimmernden Streicherlinien, exotischen Rhythmen und virtuosen Soli.=0D=0ADas Meer rauscht, Schiffe zerschellen, Feste explodieren in=0D=0Aleuchtender Pracht – und über allem erhebt sich immer wieder die=0D=0AStimme Scheherazades, die mit ihrer Erzählkunst Leben rettet.=0D=0A=0D=0ABESETZUNG=0D=0A=0D=0AKLASSISCHE PHILHARMONIE BONN Orchester=0D=0A=0D=0ASETH SCHULTHEIS Klavier=0D=0A=0D=0ARAPHAËL MERLIN Dirigent=0D=0A=0D=0APROGRAMM=0D=0A=0D=0ASERGEJ RACHMANINOW=0D=0AVocalise=0D=0A=0D=0ALUDWIG VAN BEETHOVEN=0D=0AKonzert für Klavier und Orchester Nr. 4 G-Dur op. 58=0D=0A=0D=0ANIKOLAI RIMSKI-KORSAKOW=0D=0AScheherazade=0D=0A
URL;VALUE=URI:https://hamburgwhl.infomaxnet.de/standard_widget_de/e-klassische-philharmonie-bonn-6?eventDateId=29207194&widgetToken=22vcqFKw4GE.&
CLASS:PUBLIC
DTSTART:20260426T200000
DTSTAMP:20260425T023822
END:VEVENT
END:VCALENDAR