BEGIN:VCALENDAR
VERSION:2.0
PRODID:http://www.infomax-online.de/imxeventmanager/
METHOD:PUBLISH
BEGIN:VTIMEZONE
TZID:Europe/Berlin
TZURL:http://tzurl.org/zoneinfo-outlook/Europe/Berlin
X-LIC-LOCATION:Europe/Berlin
END:VTIMEZONE
BEGIN:VEVENT
UID:69e504e37920b
LOCATION:Oldesloer Straße 20, 23795 Bad Segeberg
SUMMARY;ENCODING=QUOTED-PRINTABLE:Digitale Sprechstunde
DESCRIPTION;ENCODING=QUOTED-PRINTABLE: =0D=0A=0D=0ASie haben Probleme mit Ihrem Smartphone/Computer oder andere Fragen=0D=0Azur Digitalisierung? Kommen Sie gerne Freitags von 11-12 Uhr innerhalb=0D=0Aunserer kostenlosen Sprechstunde in der Stadtbücherei vorbei. Eine=0D=0AAnmeldung ist nicht nötig. Die betreffenden Geräte können gerne=0D=0Amitgebracht werden.=0D=0A=0D=0A =0D=0A
URL;VALUE=URI:https://hamburgwhl.infomaxnet.de/standard_widget_de/e-digitale-sprechstunde-203?eventDateId=29182762&widgetToken=22vcqFKw4GE.&
CLASS:PUBLIC
DTSTART:20260417T110000
DTSTAMP:20260419T183755
END:VEVENT
END:VCALENDAR