BEGIN:VCALENDAR
VERSION:2.0
PRODID:http://www.infomax-online.de/imxeventmanager/
METHOD:PUBLISH
BEGIN:VTIMEZONE
TZID:Europe/Berlin
TZURL:http://tzurl.org/zoneinfo-outlook/Europe/Berlin
X-LIC-LOCATION:Europe/Berlin
END:VTIMEZONE
BEGIN:VEVENT
UID:69ea1439cab72
LOCATION:Am Gojenboom 46, 22111 Hamburg
SUMMARY;ENCODING=QUOTED-PRINTABLE:Interkulturelle Handarbeit
DESCRIPTION;ENCODING=QUOTED-PRINTABLE:Jeden Dienstag von 15:30-18:00 Uhr kommen wir zusammen und genießen=0D=0Adie gemeinsame Handarbeit. =0D=0A=0D=0AWir sind auf keine Handarbeit spazialisiert, sondern probieren uns mit=0D=0Aden Dingen aus, die uns gerade in den Sinn kommen. Dabei helfen wir=0D=0Auns gegenseitig und unterstützen, wo wir können. =0D=0A=0D=0ADienstag nutzen wir die lange Zeit, um uns in unserer Kreativität=0D=0Aauszuleben und uns über unsere Werke auszutauschen. Warum habe ich=0D=0Adieses Werk erstellt? Warum in diesen Farben und wer bin ich=0D=0Aüberhaupt?=0D=0ADazu einen würzigen Tee und wärmende Gespräche. =0D=0A=0D=0AIhr seid ALLE HERZLICH EINGELADEN mitzumachen. Unverbindlich, ohne=0D=0ADruck und ohne Anforderungen. =0D=0A=0D=0A =0D=0A=0D=0A_~derzeit wird in der Gruppe viel Dari & Pashtu gesprochen, also wäre=0D=0Aauch ein Sprachkurs inklusive möglich~_=0D=0A
URL;VALUE=URI:https://hamburgwhl.infomaxnet.de/standard_widget_de/e-interkulturelle-handarbeit?eventDateId=29182705&widgetToken=22vcqFKw4GE.&
CLASS:PUBLIC
DTSTART:20260428T153000
DTSTAMP:20260423T144441
END:VEVENT
END:VCALENDAR