BEGIN:VCALENDAR
VERSION:2.0
PRODID:http://www.infomax-online.de/imxeventmanager/
METHOD:PUBLISH
BEGIN:VTIMEZONE
TZID:Europe/Berlin
TZURL:http://tzurl.org/zoneinfo-outlook/Europe/Berlin
X-LIC-LOCATION:Europe/Berlin
END:VTIMEZONE
BEGIN:VEVENT
UID:69e601bf333bf
LOCATION:Platz der Deutschen Einheit 1, 20457 Hamburg
SUMMARY;ENCODING=QUOTED-PRINTABLE:Tschechische Philharmonie / Sol Gabetta / Semyon Bychkov
DESCRIPTION;ENCODING=QUOTED-PRINTABLE:»Das Elgar-Konzert liebe ich besonders«, gesteht Sol Gabetta 2023 in=0D=0Aeinem Interview. Die Farben, die Gesanglichkeit – der Witz und die=0D=0ALebendigkeit, die immer wieder überraschend aufblitzen: Für die=0D=0AStarcellistin stimmt hier einfach alles.=0D=0ADabei hatte das Werk einen durchaus holprigen Start ins musikalische=0D=0ALeben: Eine schlecht geprobte Uraufführung im Jahr 1919 beschädigte=0D=0Aseinen Ruf, der erst 1965 durch die blutjunge Cellistin Jacqueline du=0D=0APré überwältigend wiederhergestellt wurde. Das Schicksal des=0D=0AErfolgs »beim zweiten Versuch« teilt Elgars Cellokonzert übrigens=0D=0Amit dem zweiten Hauptwerk des Programms der Tschechischen=0D=0APhilharmonie: Auch Igor Strawinskys »Le sacre du printemps« erlebte=0D=0Azunächst einen krachenden Skandal als Ballett, bevor es seinen=0D=0ASiegeszug auf den Konzertbühnen der Welt antrat.=0D=0A=0D=0ABESETZUNG=0D=0A=0D=0ATSCHECHISCHE PHILHARMONIE Orchester=0D=0A=0D=0ASOL GABETTA Violoncello=0D=0A=0D=0ASEMYON BYCHKOV Dirigent=0D=0A=0D=0APROGRAMM=0D=0A=0D=0AANTONÍN DVOŘÁK=0D=0AKarneval=0D=0A=0D=0AEDWARD ELGAR=0D=0AKonzert für Violoncello und Orchester e-Moll op. 85=0D=0A=0D=0A- Pause -=0D=0A=0D=0AIGOR STRAWINSKY=0D=0ALe sacre du printemps=0D=0A
URL;VALUE=URI:https://hamburgwhl.infomaxnet.de/standard_widget_de/e-tschechische-philharmonie-sol-gabetta-semyon-bychkov?eventDateId=29181017&widgetToken=22vcqFKw4GE.&
CLASS:PUBLIC
DTSTART:20260421T200000
DTSTAMP:20260420T123647
END:VEVENT
END:VCALENDAR