BEGIN:VCALENDAR
VERSION:2.0
PRODID:http://www.infomax-online.de/imxeventmanager/
METHOD:PUBLISH
BEGIN:VTIMEZONE
TZID:Europe/Berlin
TZURL:http://tzurl.org/zoneinfo-outlook/Europe/Berlin
X-LIC-LOCATION:Europe/Berlin
END:VTIMEZONE
BEGIN:VEVENT
UID:69e9bca427bda
LOCATION:Poggenseer Weg 28, 23843 Bad Oldesloe
SUMMARY;ENCODING=QUOTED-PRINTABLE:Konfirmationsunterricht
DESCRIPTION;ENCODING=QUOTED-PRINTABLE:Im Haus der Begegnung findet der einjährige Unterricht statt. VonJuni=0D=0Ades Vorjahres bis zur Konfirmation im Mai oder Juni, bereitet dieser=0D=0AKurs Jugendliche darauf vor erwachsene Mitglieder der Kirche zu=0D=0Asein. =0D=0A=0D=0A =0D=0A=0D=0AVERANSTALTER=0D=0A=0D=0A	* Ev.-Luth. Kirchengemeinde Oldesloe=0D=0A[https://www.nordkirche.de/institution/?nkci=1915]=0D=0A=0D=0A
URL;VALUE=URI:https://hamburgwhl.infomaxnet.de/standard_widget_de/e-konfirmationsunterricht-55?eventDateId=29145106&widgetToken=22vcqFKw4GE.&
CLASS:PUBLIC
DTSTART:20260423T153000
DTSTAMP:20260423T083100
END:VEVENT
END:VCALENDAR