BEGIN:VCALENDAR
VERSION:2.0
PRODID:http://www.infomax-online.de/imxeventmanager/
METHOD:PUBLISH
BEGIN:VTIMEZONE
TZID:Europe/Berlin
TZURL:http://tzurl.org/zoneinfo-outlook/Europe/Berlin
X-LIC-LOCATION:Europe/Berlin
END:VTIMEZONE
BEGIN:VEVENT
UID:69ecd494c92d9
LOCATION:Bürgerei , 21635 Jork
SUMMARY;ENCODING=QUOTED-PRINTABLE:Altländer Blütenfest in Jork
DESCRIPTION;ENCODING=QUOTED-PRINTABLE:Traditionsfest findet künftig eine Woche früher statt –=0D=0ATerminverschiebung berücksichtigt veränderte Blütezeit=0D=0A=0D=0ADas Blütenfest 2026 ist am 25. und 26. April=0D=0A=0D=0A =0D=0A=0D=0AEines der größten Ereignisse im Alten Land!=0D=0A=0D=0AJedes Jahr am letzten vollen Aprilwochenende ist das Alte Land im=0D=0ATrubel. In Jork werden zwei Bühne aufgebaut mit Musik- und=0D=0AUnterhaltungsprogramm und es gibt richtig viel Kunsthandwerk zu sehen.=0D=0ADie neue Blütenkönigin wird gekrönt!=0D=0A=0D=0AAusrichter dieser überregional bekannten Großveranstaltung ist die=0D=0AGemeinde Jork.=0D=0A=0D=0ADas Altländer Blütenfest gibt es seit 1982. Es verbindet Tradition=0D=0Aund Moderne, Kunst und Unterhaltung in einer reizvollen Landschaft: in=0D=0Aeinem der größten zusammenhängenden Obstanbaugebiete Europas.=0D=0A=0D=0ADie Altländer Blütenkönigin, vertritt das Alte Land bei vielen=0D=0AAnlässen. So ist sie regelmäßig Gast auf der Grünen Woche in=0D=0ABerlin, repräsentiert unsere Region und auf vielen Regionstreffen.=0D=0AUnd natürlich fehlt sie nicht bei vielen offiziellen Terminen im=0D=0AAlten Land (informieren Sie sich über die Veranstaltungen unter der=0D=0ARubrik Tourismus oder Veranstaltungstermine).=0D=0A=0D=0AAus den Bewerberinnen für das anspruchsvolle Amt wird die neue=0D=0AAltländer Blütenkönigin durch eine Jury gewählt. Wer es geworden=0D=0Aist, wird streng geheim gehalten! Erst bei der offiziellen Krönung am=0D=0ASamstag des Blütenfestes wird das Geheimnis gelüftet. Besucher:innen=0D=0Ades Blütenfestes erwarten rund 80 Stände, Kultur und Kunsthandwerk,=0D=0AAktionen für Familien, alles rund ums Obst, Süßes und Deftiges. Und=0D=0Aauf der Bühne gibt es ein abwechslungsreiches Programm mit Altländer=0D=0ATradition und Kultur im Mittelpunkt.=0D=0A
URL;VALUE=URI:https://hamburgwhl.infomaxnet.de/standard_widget_de/e-altlaender-bluetenfest-in-jork-2?eventDateId=29122184&widgetToken=22vcqFKw4GE.&
CLASS:PUBLIC
DTSTART:20260426T100000
DTSTAMP:20260425T164956
END:VEVENT
END:VCALENDAR