BEGIN:VCALENDAR
VERSION:2.0
PRODID:http://www.infomax-online.de/imxeventmanager/
METHOD:PUBLISH
BEGIN:VTIMEZONE
TZID:Europe/Berlin
TZURL:http://tzurl.org/zoneinfo-outlook/Europe/Berlin
X-LIC-LOCATION:Europe/Berlin
END:VTIMEZONE
BEGIN:VEVENT
UID:69ea1f2aa7871
LOCATION:Willy-Brandt-Allee 31a, 23554 Lübeck
SUMMARY;ENCODING=QUOTED-PRINTABLE:Verhandlungssalon 2026
DESCRIPTION;ENCODING=QUOTED-PRINTABLE:Verhandlungssalon 2026=0D=0A
URL;VALUE=URI:https://hamburgwhl.infomaxnet.de/standard_widget_de/e-verhandlungssalon-2026?eventDateId=29072246&widgetToken=22vcqFKw4GE.&
CLASS:PUBLIC
DTSTART:20260423T093000
DTSTAMP:20260423T153122
END:VEVENT
END:VCALENDAR