BEGIN:VCALENDAR
VERSION:2.0
PRODID:http://www.infomax-online.de/imxeventmanager/
METHOD:PUBLISH
BEGIN:VTIMEZONE
TZID:Europe/Berlin
TZURL:http://tzurl.org/zoneinfo-outlook/Europe/Berlin
X-LIC-LOCATION:Europe/Berlin
END:VTIMEZONE
BEGIN:VEVENT
UID:69e6143042ca4
LOCATION:Spielbudenplatz 24-25, 20359 Hamburg
SUMMARY;ENCODING=QUOTED-PRINTABLE:hidden shakespeare
DESCRIPTION;ENCODING=QUOTED-PRINTABLE:Hidden Shakespeare – Improtheater der Extraklasse=0D=0A=0D=0ABei hidden shakespeare ist jede Show eine Premiere! Das Ensemble hat=0D=0Aaus dem Genre Improvisation eine ganz eigene Kunstform geschaffen.=0D=0ASeit 1993 halten die sechs Künstler*innen der Truppe äußerst=0D=0Aerfolgreich die Fahne dieser wilden Theaterform hoch.=0D=0A=0D=0AWie’s funktioniert? Das Publikum liefert Stichworte, die ohne=0D=0ASkript, aber mit 1000 Ideen umgesetzt werden: spontan, schlagfertig,=0D=0Aschonungslos live. So entstehen Soap Operas, Krimis, herzzerreißende=0D=0ADramen, Kurzfilmszenen, Songs, Geschichten und Gedichte, Märchen und=0D=0Aauch schon mal Performance Art. Nach Auftritten beim=0D=0ABundespräsidenten im Schloss Bellevue und Gastspielen kreuz und quer=0D=0Ain Europa, Afrika, Amerika und der Karibik kehren die Held*innen des=0D=0AImprotheaters immer wieder zurück ins Schmidt Theater und zeigen wie=0D=0Agehabt Können, Wollen und viel Witz. Ein Abend mit hidden shakespeare=0D=0Aist einmalig. Wer's nicht glaubt, darf gerne immer wiederkommen!=0D=0A
URL;VALUE=URI:https://hamburgwhl.infomaxnet.de/standard_widget_de/e-hidden-shakespeare-17?eventDateId=28993617&widgetToken=22vcqFKw4GE.&
CLASS:PUBLIC
DTSTART:20260420T190000
DTSTAMP:20260420T135528
END:VEVENT
END:VCALENDAR