BEGIN:VCALENDAR
VERSION:2.0
PRODID:http://www.infomax-online.de/imxeventmanager/
METHOD:PUBLISH
BEGIN:VTIMEZONE
TZID:Europe/Berlin
TZURL:http://tzurl.org/zoneinfo-outlook/Europe/Berlin
X-LIC-LOCATION:Europe/Berlin
END:VTIMEZONE
BEGIN:VEVENT
UID:69ed1b3624d75
LOCATION:Am Kurpark , 23683 Scharbeutz
SUMMARY;ENCODING=QUOTED-PRINTABLE:Megamarsch - Ostsee Schleswig-Holstein 2026
DESCRIPTION;ENCODING=QUOTED-PRINTABLE:Eine Region, ein Datum, ein Event, aber 2 Startpunkte. Mach dich=0D=0Astartklar für 50 km an der Ostsee in Schleswig-Holstein. =0D=0A=0D=0AWarst du schon mal in Scharbeutz oder Grömitz? Nein?! Dann wird es=0D=0Ahöchste Zeit! Direkt an der Ostsee gelegen, bieten die beiden Städte=0D=0Aeine ideale Location für den Megamarsch!=0D=0A=0D=0ADas Besondere an diesem Megamarsch? Du hast die Wahl, ob du lieber in=0D=0AScharbeutz oder in Grömitz starten möchtest. Denn es wird ein=0D=0AMegamarsch mit 2 Start- und 2 Zielpunkten.=0D=0A=0D=0AStartzeit: ab 7:30 Uhr (genaue Startzeit steht auf Deinem Ticket)=0D=0A=0D=0AVerpflegungsstationen: Vier Stationen entlang der Strecke (ca. alle=0D=0A10km).=0D=0A=0D=0AÖffnungszeiten: Die Öffnungszeiten der Stationen und des Ziels=0D=0Arichten sich nach einer Durchschnittsgeschwindigkeit von 4,2km/h bis=0D=0A6km/h.=0D=0A=0D=0AUrkunde: Ab der zweiten Verpflegungsstation=0D=0A=0D=0AMedaille & Hall of Fame: Bei einem 50KM Finish=0D=0A=0D=0AWanderpass & Stempel: Bekommst Du am Start und im Ziel als Nachweis=0D=0Afür Deine Leistung.=0D=0A=0D=0ADen groben Streckenverlauf stellen wir dir zeitnah vor. 2 Wochen vor=0D=0Adem Megamarsch stellen wir dir die Strecke als Download für=0D=0AAlltrails zur Verfügung. Die Strecke ist vorübergehend und kann=0D=0Asich z.B. auf Grund von behördlichen Auflagen oder organisatorischen=0D=0AGründen noch ändern.=0D=0A=0D=0A2 Tage vor dem Event fahren wir die Strecke mit dem Fahrrad ab, um=0D=0Aden Weg für dich zu markieren. Sollten wir dabei merken, dass Teile=0D=0Ader Strecke z.B. auf Grund von Ästen, die auf der Strecke liegen,=0D=0Aoder weil die Wege sehr nass sind, nicht begehbar sind, wird die=0D=0AStrecke kurzfristig an die Gegebenheiten vor Ort angepasst.=0D=0A=0D=0AWährend der Veranstaltung werden Foto- und Videoaufnahmen zu Zwecken=0D=0Ader Öffentlichkeitsarbeit und Dokumentation erstellt. Mit deiner=0D=0ATeilnahme erklärst du dich mit der Verwendung dieser Aufnahmen=0D=0Aeinverstanden. Solltest du nicht fotografiert werden wollen, sprich=0D=0Abitte unser Team vor Ort an.=0D=0A
URL;VALUE=URI:https://hamburgwhl.infomaxnet.de/standard_widget_de/e-megamarsch-ostsee-schleswig-holstein-2026?eventDateId=28514899&widgetToken=22vcqFKw4GE.&
CLASS:PUBLIC
DTSTART:20260425T073000
DTSTAMP:20260425T215118
END:VEVENT
END:VCALENDAR