BEGIN:VCALENDAR
VERSION:2.0
PRODID:http://www.infomax-online.de/imxeventmanager/
METHOD:PUBLISH
BEGIN:VTIMEZONE
TZID:Europe/Berlin
TZURL:http://tzurl.org/zoneinfo-outlook/Europe/Berlin
X-LIC-LOCATION:Europe/Berlin
END:VTIMEZONE
BEGIN:VEVENT
UID:69ece477dfef0
LOCATION:Bergstraße , 23879 Mölln
SUMMARY;ENCODING=QUOTED-PRINTABLE:Gartenromantik
DESCRIPTION;ENCODING=QUOTED-PRINTABLE:Zwischen Garten- & Genusskultur und Kunsthandwerk & Lifestyle=0D=0A=0D=0AGeleitet von der Wärme der ersten Sonnenstrahlen und den=0D=0Aaufsteigenden Frühlingsgefühlen, können Blumenliebhaber:innen und=0D=0AFreiluftkinder an diesen beiden Apriltagen viele neue und=0D=0Ainspirierende Eindrücke erleben. Die Gartenromantik tummelt sich auch=0D=0Ain diesem Jahr wieder inmitten der schönsten Kulisse Möllns - dem=0D=0AKurpark.=0D=0A=0D=0A_Erwecken Sie den Frühling in sich_=0D=0A=0D=0AEndlich werden die Tage wieder länger und die ersten Sonnenstrahlen=0D=0Awärmen die Haut. Nun heißt es rein in die Gartenhandschuhe: Jäten,=0D=0Aaussäen und pflanzen ist angesagt! Fehlt es an Ideen oder konkreten=0D=0AAnleitungen, um den heimischen Garten, Hof oder Balkon in einen=0D=0Afarbenprächtigen und blühenden Ort der Erholung zu verwandeln? Auf=0D=0Aüber 7000m² Ausstellungsfläche präsentieren über 80=0D=0AAusteller:innen liebevoll ihre einzigartigen und praktischen Produkte.=0D=0ANeben winterharten Stauden und den verschiedensten Gartendekorationen=0D=0Akönnen auch wieder außergewöhnliche kunsthandwerkliche Schätze=0D=0Aerworben werden. Entdecken Sie neue Trends für Haus, Hof, Balkon und=0D=0AGarten. Wir garantieren: Auf der Gartenromantik werden alle fündig.=0D=0A=0D=0A_Garten- und Genusskultur_=0D=0A=0D=0ADas VIELFÄLTIG KULINARISCHE ANGEBOT sorgt für genussvolle Momente=0D=0Aund rundet somit die Auswahl für Leib und Seele ab, sodass nach=0D=0AHerzenslust geschlemmt werden kann. Durch ein ausgewogenes Angebot an=0D=0Averschiedenen süßen und herzhaften Speisen lassen sich all die=0D=0Akreativen Garten-Ideen auch wunderbar verdauen.=0D=0A=0D=0ANeben den Verkaufsständen mit Blumenzwiebeln, Gartenwerkzeugen und=0D=0Akunsthandwerklichen Dekoschätzen erwartet die Gäste ein=0D=0AABWECHSLUNGSREICHES RAHMENPROGRAMM. Für die musikalische Unterhaltung=0D=0Aist gesorgt. Außerdem sorgen die wandelnden Büsche als Walk-Act für=0D=0AUnterhaltung und halten kleine Überraschungen für die Gäste bereit.=0D=0A=0D=0AAm Sonntag, 26. APRIL 2026, findet ein VERKAUFSOFFENER SONNTAG in=0D=0AMölln statt. Von 13 bis 18 Uhr laden die Geschäfte der Innenstadt=0D=0Azum entspannten Bummeln und Einkaufen ein und freuen sich auf viele=0D=0ABesucherinnen und Besucher. Viele Geschäfte bieten an diesem Tag=0D=0Aspezielle Aktionen und Angebote an. Zusätzlich läuft in Mölln bis=0D=0Azum 30. April 2026 eine große Rabattcoupon-Aktion in zahlreichen=0D=0ABetrieben. Alle Informationen zum verkaufsoffenen Sonntag finden Sie=0D=0AHIER=0D=0A[https://www.moelln-tourismus.de/event/verkaufsoffener-sonntag-in-moelln].=0D=0A=0D=0AAlle Informationen zur Gartenromantik findet man bei uns auf der=0D=0AInternetseite.=0D=0A[https://www.moelln-tourismus.de/events-moelln/gartenromantik/uebersicht]=0D=0A=0D=0A
URL;VALUE=URI:https://hamburgwhl.infomaxnet.de/standard_widget_de/e-gartenromantik-1?eventDateId=28301045&widgetToken=22vcqFKw4GE.&
CLASS:PUBLIC
DTSTART:20260426T110000
DTSTAMP:20260425T175743
END:VEVENT
END:VCALENDAR