BEGIN:VCALENDAR
VERSION:2.0
PRODID:http://www.infomax-online.de/imxeventmanager/
METHOD:PUBLISH
BEGIN:VTIMEZONE
TZID:Europe/Berlin
TZURL:http://tzurl.org/zoneinfo-outlook/Europe/Berlin
X-LIC-LOCATION:Europe/Berlin
END:VTIMEZONE
BEGIN:VEVENT
UID:69e75e37c239f
LOCATION:Platz der Deutschen Einheit 1, 20457 Hamburg
SUMMARY;ENCODING=QUOTED-PRINTABLE:Workshop: Kreativ Klangsafari
DESCRIPTION;ENCODING=QUOTED-PRINTABLE:Mit gespitzten Ohren gehen die Teilnehmerinnen und Teilnehmer durch=0D=0Adie Elbphilharmonie und fangen mit ihrem Mikrofon spannende Klänge=0D=0Aein. Welche Geräusche finden sich im Konzerthaus, wenn keine Konzerte=0D=0Agespielt werden? Mit einem Tablet samt App nehmen die Teilnehmerinnen=0D=0Aund Teilnehmer Klangschnipsel auf, die sie später bearbeiten und zu=0D=0Aeinem kleinen Musikstück zusammenstellen können.=0D=0A=0D=0ABITTE BEACHTEN SIE: Dieses Angebot richtet sich an Familien mit=0D=0AKindern ab 8 Jahren. Kinder dürfen nur in Begleitung einer=0D=0Aerwachsenen Bezugsperson mit Ticket teilnehmen.=0D=0AKinder unter 8 Jahren können an diesem Workshop nicht teilnehmen.=0D=0A
URL;VALUE=URI:https://hamburgwhl.infomaxnet.de/standard_widget_de/e-workshop-kreativ-klangsafari-14?eventDateId=28187856&widgetToken=22vcqFKw4GE.&
CLASS:PUBLIC
DTSTART:20260425T120000
DTSTAMP:20260421T132335
END:VEVENT
END:VCALENDAR