BEGIN:VCALENDAR
VERSION:2.0
PRODID:http://www.infomax-online.de/imxeventmanager/
METHOD:PUBLISH
BEGIN:VTIMEZONE
TZID:Europe/Berlin
TZURL:http://tzurl.org/zoneinfo-outlook/Europe/Berlin
X-LIC-LOCATION:Europe/Berlin
END:VTIMEZONE
BEGIN:VEVENT
UID:69eb5007d6579
LOCATION:Platz der Deutschen Einheit 1, 20457 Hamburg
SUMMARY;ENCODING=QUOTED-PRINTABLE:Die Deutsche Kammerphilharmonie Bremen / Mao Fujita / Paavo Järvi
DESCRIPTION;ENCODING=QUOTED-PRINTABLE:Seit mehr als zwei Jahrzehnten ist Paavo Järvi künstlerischer Leiter=0D=0Ader Deutschen Kammerphilharmonie Bremen und gemeinsam hat das=0D=0Amusikalische Dreamteam einen Staffellauf an die Spitze der=0D=0Ainternationalen Musikwelt hingelegt. In diesem Konzert verbinden sie=0D=0Adie Energie des jungen Schubert mit feinsinnigem Mozart und haben mit=0D=0AMao Fujita einen Pianisten als Partner, der mit Mitte 20 schon als=0D=0Aführender Mozart-Interpret seiner Generation gehandelt wird.=0D=0A=0D=0AGerade mal 16 Jahre alt war Schubert, als er mit seiner ersten=0D=0ASinfonie eine äußerst selbstbewusste Musik aufs Papier warf. Das=0D=0AWerk orientiert sich deutlich am Vorbild Mozarts und besticht mit=0D=0Aeiner mitreißenden Energie und Frische im Ausdruck. Zwei Jahre=0D=0Aspäter schrieb Schubert mit seiner Dritten eine weitere Sinfonie in=0D=0AD-Dur, die einer eigenen Klangsprache noch einen Schritt näherkommt=0D=0A– ein kraftstrotzendes und humorvolles Stück, das auf der Bühne=0D=0Awie im Publikum gute Laune verbreitet. =0D=0A=0D=0ADazu passt Mozarts Klavierkonzert KV 459, das fast durchweg die=0D=0Alächelnde Seite seines Komponisten zeigt. Die feinsinnige Eleganz=0D=0Adieser Musik ist bei Mao Fujita in den besten Händen, denn der junge=0D=0AJapaner veröffentlichte als sein Debütalbum bei Sony Classical 2022=0D=0Aeine preisgekrönte Gesamtaufnahme von Mozarts Klaviersonaten. Über=0D=0Adas Spiel des damals gerade mal 24-Jährigen jubelte das Grammophone=0D=0AMagazine: »Fujitas Klangwelt ist eins mit der von Mozart!«=0D=0A=0D=0ABESETZUNG=0D=0A=0D=0ADIE DEUTSCHE KAMMERPHILHARMONIE BREMEN Orchester=0D=0A=0D=0AMAO FUJITA Klavier=0D=0A=0D=0APAAVO JÄRVI Dirigent=0D=0A=0D=0APROGRAMM=0D=0A=0D=0AFRANZ SCHUBERT=0D=0ASinfonie Nr. 1 D-Dur D 82=0D=0A=0D=0AWOLFGANG AMADEUS MOZART=0D=0AKonzert für Klavier und Orchester F-Dur KV 459=0D=0A=0D=0A- Pause -=0D=0A=0D=0AFRANZ SCHUBERT=0D=0ASinfonie Nr. 3 D-Dur D 200=0D=0A
URL;VALUE=URI:https://hamburgwhl.infomaxnet.de/standard_widget_de/e-die-deutsche-kammerphilharmonie-bremen-mao-fujita-paavo-jaervi?eventDateId=28187567&widgetToken=22vcqFKw4GE.&
CLASS:PUBLIC
DTSTART:20260425T200000
DTSTAMP:20260424T131207
END:VEVENT
END:VCALENDAR