BEGIN:VCALENDAR
VERSION:2.0
PRODID:http://www.infomax-online.de/imxeventmanager/
METHOD:PUBLISH
BEGIN:VTIMEZONE
TZID:Europe/Berlin
TZURL:http://tzurl.org/zoneinfo-outlook/Europe/Berlin
X-LIC-LOCATION:Europe/Berlin
END:VTIMEZONE
BEGIN:VEVENT
UID:69e609db67293
LOCATION:Platz der Deutschen Einheit 1, 20457 Hamburg
SUMMARY;ENCODING=QUOTED-PRINTABLE:Tschechische Philharmonie / Semyon Bychkov
DESCRIPTION;ENCODING=QUOTED-PRINTABLE:Nur wenige können den eigenwilligen Organismus eines großen=0D=0AOrchesters allein mit der Spitze ihres Taktstocks zu solchen=0D=0AHöchstleistungen anstacheln, wie Semyon Bychkov. Gemeinsam mit der=0D=0ATschechischen Philharmonie, der er seit 2018 als Chefdirigent=0D=0Avorsteht, macht sich Bychkov auf eine musikalische Reise Richtung=0D=0ASüden – auf dem Programm steht italienisch inspirierte Musik von=0D=0AFelix Mendelssohn-Bartholdy und Igor Strawinsky.=0D=0A=0D=0AAls Kind aus gutem Hause ging der junge Mendelssohn auf mehrere=0D=0ABildungsreisen und war unter anderem in Italien unterwegs. Eine=0D=0AEntschlossenheit zum Genuss, zum Aufsaugen aller Klänge, Farben und=0D=0AGerüche trug ihn auf seiner Reise und floss direkt ein in den Anfang=0D=0Ader »Italienischen« – ausgelassener beginnt vielleicht keine=0D=0Aandere große Sinfonie. Aber dieses Feuer wird sogar übertroffen von=0D=0Adem atemlosen Wirbelwind des tänzerischen Schlusssatzes, also gut=0D=0Aanschnallen! =0D=0A=0D=0AIgor Strawinsky wiederum wurde nach den spektakulären Erfolgen seiner=0D=0Agroßen Ballettmusiken vom Leiter der legendären Kompanie Balletts=0D=0ARusses um ein weiteres Werk gebeten: Eine Musik basierend auf barocken=0D=0AVorlagen von Giovanni Battista Pergolesi sollte es sein, zu der=0D=0Abekannte Figuren des italienischen Volkstheaters kunstvolle Tänze und=0D=0Aderbe Späße vollführen könnten. Strawinsky überführte Pergolesis=0D=0AMelodien geschickt in seine Tonsprache und gab den alten Vorlagen so=0D=0Aeine ganz neue Ebene bei.=0D=0A=0D=0ABESETZUNG=0D=0A=0D=0ATSCHECHISCHE PHILHARMONIE Orchester=0D=0A=0D=0ASTEFANIE IRÁNYI Mezzosopran=0D=0A=0D=0AERIC FINBARR CAREY Tenor=0D=0A=0D=0AJONGMIN PARK Bass=0D=0A=0D=0ASEMYON BYCHKOV Dirigent=0D=0A=0D=0APROGRAMM=0D=0A=0D=0AFELIX MENDELSSOHN BARTHOLDY=0D=0ASinfonie Nr. 4 A-Dur op. 90 »Italienische«=0D=0A=0D=0A- Pause -=0D=0A=0D=0AIGOR STRAWINSKY=0D=0APulcinella=0D=0A
URL;VALUE=URI:https://hamburgwhl.infomaxnet.de/standard_widget_de/e-tschechische-philharmonie-semyon-bychkov?eventDateId=28187549&widgetToken=22vcqFKw4GE.&
CLASS:PUBLIC
DTSTART:20260422T200000
DTSTAMP:20260420T131123
END:VEVENT
END:VCALENDAR