BEGIN:VCALENDAR
VERSION:2.0
PRODID:http://www.infomax-online.de/imxeventmanager/
METHOD:PUBLISH
BEGIN:VTIMEZONE
TZID:Europe/Berlin
TZURL:http://tzurl.org/zoneinfo-outlook/Europe/Berlin
X-LIC-LOCATION:Europe/Berlin
END:VTIMEZONE
BEGIN:VEVENT
UID:69e829463db31
LOCATION:Johannes-Brahms-Platz , 20355 Hamburg
SUMMARY;ENCODING=QUOTED-PRINTABLE:»Juri und die Superkraft der Musik«
DESCRIPTION;ENCODING=QUOTED-PRINTABLE:Superheld:innen haben Superkräfte. Und im Kino bekommen sie=0D=0AUnterstützung von Supermusik. Die Symphoniker Hamburg und=0D=0AKiKA-Moderator Juri Tetzlaff holen Held:innen ins Konzert und stürzen=0D=0Asich in ein spannendes Abenteuer. Sie entdecken die Superkraft der=0D=0ATöne und Klänge. Welche Instrumente haben die Gabe, uns träumen,=0D=0Afliegen und siegen zu lassen? Wie funktioniert die Musikmagie, die aus=0D=0Aganz normalen Menschen Siegertypen macht? Welche Tricks nutzen=0D=0AKomponist:innen, um »Zeros« in »Heroes« zu verwandeln? Eine=0D=0Aspannende Reise in die Welt der Held:innen für die ganze Familie: mit=0D=0Amitreißender Geschichte, fröhlichen Mitmachmomenten und packender=0D=0AMusik, die die Held:innen in uns allen weckt.=0D=0A=0D=0AImmer 14 Tage vor den Kinderkonzerten gibt es hier bei den=0D=0ASymphonikern Hamburg=0D=0A[https://www.symphonikerhamburg.de/education/kinderkonzertvorbereitungsseite]=0D=0AInteressantes, Spannendes und Musikalisches zum Programm.=0D=0A=0D=0AHINWEIS ZUR BUCHUNG: Bitte beachten Sie, dass jede:r ein Ticket=0D=0Abraucht, auch die kleinsten Besucher:innen.=0D=0A=0D=0ABESETZUNG=0D=0A=0D=0ASYMPHONIKER HAMBURG Orchester=0D=0A=0D=0AJASON WEAVER Dirigent=0D=0A=0D=0AJURI TETZLAFF Moderation=0D=0A=0D=0APROGRAMM=0D=0A=0D=0A»Juri und die Superkraft der Musik«=0D=0A=0D=0A =0D=0A=0D=0ALUDWIG VAN BEETHOVEN=0D=0ASinfonie Nr. 3 Es-Dur op. 55 »Eroica« (Auszüge)=0D=0A=0D=0AHOWARD SHORE=0D=0AMusik zum Film »Der Herr der Ringe: Die Gefährten« (Regie: Peter=0D=0AJackson, 2001)=0D=0A
URL;VALUE=URI:https://hamburgwhl.infomaxnet.de/standard_widget_de/e-juri-und-die-superkraft-der-musik?eventDateId=28164890&widgetToken=22vcqFKw4GE.&
CLASS:PUBLIC
DTSTART:20260426T110000
DTSTAMP:20260422T034958
END:VEVENT
END:VCALENDAR