BEGIN:VCALENDAR
VERSION:2.0
PRODID:http://www.infomax-online.de/imxeventmanager/
METHOD:PUBLISH
BEGIN:VTIMEZONE
TZID:Europe/Berlin
TZURL:http://tzurl.org/zoneinfo-outlook/Europe/Berlin
X-LIC-LOCATION:Europe/Berlin
END:VTIMEZONE
BEGIN:VEVENT
UID:69e601aa03935
LOCATION:Poggenseer Weg 28, 23843 Bad Oldesloe
SUMMARY;ENCODING=QUOTED-PRINTABLE:Musikzwerge
DESCRIPTION;ENCODING=QUOTED-PRINTABLE:Rhythmisch-musikalische Zeit für Kleinkinder, Eltern und Großeltern.=0D=0A =0D=0A=0D=0A Immer montags um 15 Uhr treffen sich Eltern und Kinder von 0 bis 2=0D=0AJahren im Haus der Begegnung, Poggenseer Weg 28. Ein kleiner Zwerg und=0D=0Aseine Freunde erzählen Geschichten in Form von Singen und Sprechen,=0D=0ABewegung und Tanz, Wiegen und gemeinsames Musizieren mit Trommeln,=0D=0AKlanghölzern, Rasseln oder Glöckchen. Klang und Spiel verschmelzen=0D=0Ain der rhythmisch- musikalischen Erziehung zu einer natürlichen=0D=0AEinheit. Musik fördert nicht nur die Bewegung, sondern auch=0D=0ASprachkompetenz, Wahrnehmung, Sensomotorik und soziale Kompetenz. Mit=0D=0Aviel Freude am Tun, Bewegung und kreativen Ideen wird Musik erlebbar=0D=0Agemacht. Bei diesem Konzept ist der Zwerg die zentrale Figur, von der=0D=0Aalles ausgeht. Das Angebot ist kostenfrei und offen. Um Anmeldung wird=0D=0Agebeten.=0D=0A=0D=0ABei Fragen wenden Sie sich an Iris Hoffmeyer, Koordinatorin des=0D=0AFamilienzentrums. Weitere Informationen finden Sie auf der Seite des=0D=0AFamilienzentrums. www.familienzentrum-oldesloe.de=0D=0A[http://www.familienzentrum-oldesloe.de/] Email:=0D=0Afamilienzentrum@kirche-oldesloe.de=0D=0A=0D=0A =0D=0A
URL;VALUE=URI:https://hamburgwhl.infomaxnet.de/standard_widget_de/e-musikzwerge-132?eventDateId=28112075&widgetToken=22vcqFKw4GE.&
CLASS:PUBLIC
DTSTART:20260420T150000
DTSTAMP:20260420T123626
END:VEVENT
END:VCALENDAR