BEGIN:VCALENDAR
VERSION:2.0
PRODID:http://www.infomax-online.de/imxeventmanager/
METHOD:PUBLISH
BEGIN:VTIMEZONE
TZID:Europe/Berlin
TZURL:http://tzurl.org/zoneinfo-outlook/Europe/Berlin
X-LIC-LOCATION:Europe/Berlin
END:VTIMEZONE
BEGIN:VEVENT
UID:69e7b809d3462
LOCATION:Große Freiheit 58, 22767 Hamburg
SUMMARY;ENCODING=QUOTED-PRINTABLE:Spidergawd - European Album Tour 2026
DESCRIPTION;ENCODING=QUOTED-PRINTABLE:SPIDERGAWD – Heavy Rock der Extraklasse!=0D=0A=0D=0AWenn kompromissloser 70s-Rock auf moderne Härte trifft, dann sind=0D=0ASPIDERGAWD am Werk! Die norwegische Band um Ex-Motorpsycho-Drummer=0D=0AKenneth Kapstad bringt ihren unverwechselbaren Sound nach Lindau –=0D=0Aeine explosive Mischung aus Heavy Rock, Psychedelic und einer Prise=0D=0APunk-Attitüde!=0D=0A=0D=0ASeit ihrer Gründung 2013 haben sich Spidergawd mit Alben wie "IV",=0D=0A"V" und ihrem aktuellen Werk "VI" einen Ruf als eine der spannendsten=0D=0ALive-Bands Europas erarbeitet. Fette Gitarrenriffs, ein treibendes=0D=0ASaxophon und gnadenlose Energie machen ihre Shows zu einem=0D=0Amitreißenden Erlebnis, das Fans von Thin Lizzy bis Mastodon in=0D=0AEkstase versetzt.=0D=0A=0D=0AOb donnernde Hymnen oder wuchtige Grooves – Spidergawd liefern eine=0D=0Apackende Performance, die niemanden stillstehen lässt. Wer auf=0D=0Aehrlichen, druckvollen Rock’n’Roll steht, darf sich dieses Konzert=0D=0Anicht entgehen lassen!=0D=0A
URL;VALUE=URI:https://hamburgwhl.infomaxnet.de/standard_widget_de/e-spidergawd-european-album-tour-2026?eventDateId=27760827&widgetToken=22vcqFKw4GE.&
CLASS:PUBLIC
DTSTART:20260425T200000
DTSTAMP:20260421T194649
END:VEVENT
END:VCALENDAR