BEGIN:VCALENDAR
VERSION:2.0
PRODID:http://www.infomax-online.de/imxeventmanager/
METHOD:PUBLISH
BEGIN:VTIMEZONE
TZID:Europe/Berlin
TZURL:http://tzurl.org/zoneinfo-outlook/Europe/Berlin
X-LIC-LOCATION:Europe/Berlin
END:VTIMEZONE
BEGIN:VEVENT
UID:69ea6b8f6d520
LOCATION:St. Petersburger Straße , 20355 Hamburg
SUMMARY;ENCODING=QUOTED-PRINTABLE:Wyschywanka Tag (Ukrainisches Festival)
DESCRIPTION;ENCODING=QUOTED-PRINTABLE:_LIEBE FREUNDE ️️️=0D=0AWir laden alle Einwohner und Gäste der Stadt herzlich am 23. Mai zu=0D=0Aeinem Kunstfestival ein, das dem ukrainischen Feiertag „Tag der=0D=0AVyshyvanka“ gewidmet ist.=0D=0A ️ auf der Sommerbühne im Park Planten un Blomen.=0D=0A️=0D=0A=0D=0AWAS? _Wohltätigkeits Festival=0D=0A_WANN?_ 23. Mai=0D=0A_DAUER? _15:00–20:00 Uhr=0D=0A_WO? _Musikpavillon Planten un Blomen HAMBURG=0D=0A=0D=0A_Kommt vorbei, kommt mit der ganzen Familie, bringt Freunde mit oder=0D=0Akommt einfach zu uns und lernt neue Freunde kennen _=0D=0A=0D=0AWie immer erwarten euch ein Musikprogramm, kreative Aktivitäten,=0D=0A Leckereien und Überraschungen von den Veranstaltern=0D=0A- Markt=0D=0A- Ausstellung=0D=0A- Unterhaltung für Kinder und Erwachsene=0D=0A- 17:00 Uhr Festkonzert=0D=0A=0D=0A_Wir freuen uns auf euch _=0D=0ALasst uns diesen Tag gemeinsam verbringen ️=0D=0A =0D=0A
URL;VALUE=URI:https://hamburgwhl.infomaxnet.de/planten-un-blomen/e-wyschywanka-tag-ukrainisches-festival?eventDateId=30190708&widgetToken=wRR-AnDwRb0.&
CLASS:PUBLIC
DTSTART:20260523T160000
DTSTAMP:20260423T205719
END:VEVENT
END:VCALENDAR