BEGIN:VCALENDAR
VERSION:2.0
PRODID:http://www.infomax-online.de/imxeventmanager/
METHOD:PUBLISH
BEGIN:VTIMEZONE
TZID:Europe/Berlin
TZURL:http://tzurl.org/zoneinfo-outlook/Europe/Berlin
X-LIC-LOCATION:Europe/Berlin
END:VTIMEZONE
BEGIN:VEVENT
UID:69e829d838eb5
LOCATION:Glacischaussee , 20355 Hamburg
SUMMARY;ENCODING=QUOTED-PRINTABLE:Jesper Munk - Pop Seasons in Bloom
DESCRIPTION;ENCODING=QUOTED-PRINTABLE:Eine Veranstaltung der Reihe Jesper Munk=0D=0A=0D=0A*Indie | Pop | Jazz | New Wave | Chanson *=0D=0A=0D=0AJesper Munk - es gibt kaum jemanden in der deutschen Indie-Szene, der=0D=0Anoch nie von ihm gehört hat. Aber wo anfangen, wie einordnen und wo=0D=0Aaufhören? Jesper Munk ist noch lange nicht fertig, ganz im Gegenteil.=0D=0AIm Alter von 31 Jahren hat sich die Suche nach seiner eigenen=0D=0AKlanglandschaft als erfolgreich erwiesen, was sowohl bei seinen=0D=0AKonzerten als auch auf Platte sehr deutlich wird. In den letzten 12=0D=0AJahren ist viel passiert und Jespers Geschichte ist eine mit vielen=0D=0AHöhen und Tiefen, Verschiebungen und Wendungen, von der bluesigen=0D=0ASupernova zum angesagten, aber unterschätzten Crooner, vom=0D=0Ajugendlichen Posterboy zum etablierten und gereiften=0D=0ASinger/Songwriter.=0D=0A
URL;VALUE=URI:https://hamburgwhl.infomaxnet.de/planten-un-blomen/e-jesper-munk-pop-seasons-in-bloom?eventDateId=30159966&widgetToken=wRR-AnDwRb0.&
CLASS:PUBLIC
DTSTART:20260606T190000
DTSTAMP:20260422T035224
END:VEVENT
END:VCALENDAR