BEGIN:VCALENDAR
VERSION:2.0
PRODID:http://www.infomax-online.de/imxeventmanager/
METHOD:PUBLISH
BEGIN:VTIMEZONE
TZID:Europe/Berlin
TZURL:http://tzurl.org/zoneinfo-outlook/Europe/Berlin
X-LIC-LOCATION:Europe/Berlin
END:VTIMEZONE
BEGIN:VEVENT
UID:69e9f65b3b875
LOCATION:St. Petersburger Straße , 20355 Hamburg
SUMMARY;ENCODING=QUOTED-PRINTABLE:Florian Christl
DESCRIPTION;ENCODING=QUOTED-PRINTABLE:Florian Christl=0D=0A
URL;VALUE=URI:https://hamburgwhl.infomaxnet.de/planten-un-blomen/e-florian-christl-4?eventDateId=30098200&widgetToken=wRR-AnDwRb0.&
CLASS:PUBLIC
DTSTART:20260826T193000
DTSTAMP:20260423T123715
END:VEVENT
END:VCALENDAR