BEGIN:VCALENDAR
VERSION:2.0
PRODID:http://www.infomax-online.de/imxeventmanager/
METHOD:PUBLISH
BEGIN:VTIMEZONE
TZID:Europe/Berlin
TZURL:http://tzurl.org/zoneinfo-outlook/Europe/Berlin
X-LIC-LOCATION:Europe/Berlin
END:VTIMEZONE
BEGIN:VEVENT
UID:69e81b22385e0
LOCATION:Glacischaussee , 20355 Hamburg
SUMMARY;ENCODING=QUOTED-PRINTABLE:Theater Kreuz & Quer: Dornröschen
DESCRIPTION;ENCODING=QUOTED-PRINTABLE:DORNRÖSCHEN LASS DEIN HAAR HERAB=0D=0A=0D=0A_Ein Clownstheaterstück für 2 Clowns, einen Garten, eine Hecke und=0D=0Aeine Heckenschere frei nach dem Grimmschen Märchen "DORNRÖSCHEN".=0D=0AFür Kinder ab 4 Jahre._=0D=0A=0D=0AFrühlingszeit! Die Bäume schlagen aus! Die Blumen sprießen! Gebrr=0D=0Ahat Hummeln im Hintern und Grimm würde am liebsten einfach nur in=0D=0ARuhe die Frühlingssonne geniessen. Doch die beiden Clowns, müssen=0D=0Aihren Garten „putzen“: Graben, haken, jäten, zupfen, säen,=0D=0Asetzen, Hecke schneiden ... Doch Moment mal? Gibt es da nicht ein=0D=0AMärchen in dem eine Hecke vorkommt? Und ein Schloss und ein Spinnrad=0D=0Aund eine verwunschene Prinzessin und ein zupackender Prinz? Das ist=0D=0Adoch viel spannender als Gartenarbeit! Und ist nicht alles da, was man=0D=0Afür dieses Märchen braucht? Mit Hilfe allerlei Gartengeräte=0D=0Aerzählen sich die beiden kreuz und quer durch das Märchen von=0D=0ADornröschen, bringen einiges durcheinander, doch am Ende - wie immer=0D=0Aim Märchen – küsst die Prinzessin ihren Prinzen und der bekommt=0D=0Adas halbe Königreich und die ganze Prinzessin und kann endlich in der=0D=0AFrühlingssonne dösen ....=0D=0A=0D=0AText: Rainer Besel=0D=0ARegie: Thos Renneberg=0D=0AAusstattung:Esther Krause-Paulus=0D=0AEs spielen: Rainer Besel, Esther Krause-Paulus=0D=0ASpieldauer: ca. 50 Minuten=0D=0A
URL;VALUE=URI:https://hamburgwhl.infomaxnet.de/planten-un-blomen/e-theater-kreuz-quer-der-fischer-seine-frau-und-das-fischstaebchen?eventDateId=30087060&widgetToken=wRR-AnDwRb0.&
CLASS:PUBLIC
DTSTART:20260625T103000
DTSTAMP:20260422T024938
END:VEVENT
END:VCALENDAR