BEGIN:VCALENDAR
VERSION:2.0
PRODID:http://www.infomax-online.de/imxeventmanager/
METHOD:PUBLISH
BEGIN:VTIMEZONE
TZID:Europe/Berlin
TZURL:http://tzurl.org/zoneinfo-outlook/Europe/Berlin
X-LIC-LOCATION:Europe/Berlin
END:VTIMEZONE
BEGIN:VEVENT
UID:69e82a0c0a44e
LOCATION:St. Petersburger Straße , 20355 Hamburg
SUMMARY;ENCODING=QUOTED-PRINTABLE:Suzie & The Fireballs
DESCRIPTION;ENCODING=QUOTED-PRINTABLE:SUZIE AND THE FIREBALLS=0D=0A=0D=0A10.05.2026, 15 bis 17 Uhr=0D=0A=0D=0A50s Rock & Roll und 60s Beat=0D=0A=0D=0AWir nehmen Sie mit auf eine musikalische Reise in die Zeit von 1950=0D=0Abis 1969. „Twist & Shout“ ist das Motto einer von Suzie gekonnt=0D=0Amoderierten, energiegeladenen, tollen Show.=0D=0A=0D=0ADas Programm:=0D=0A=0D=0AAbwechslungsreich mit einem hohen Wiedererkennungswert, denn alle=0D=0ATitel waren seinerzeit in den Hitparaden vertreten und erinnern an=0D=0Aeine unvergessene Zeit. Songs der 50er Jahre von Elvis Presley, Chuck=0D=0ABerry, Buddy Holly, um nur einige zu nennen, mischen sich problemlos=0D=0Amit Erfolgen der 60er Jahre von den Beatles, Rolling Stones, Hollies,=0D=0ASearchers, Troggs, Kinks u.v.a.m.=0D=0A=0D=0ASUZIE AND THE FIREBALLS sind:=0D=0A=0D=0APatricia „Suzie“ Butt - Gesang=0D=0A=0D=0AKnut Hartmann - Rhythmusgitarre,=0D=0A=0D=0AGesang Christian „Doc“ Kieviet - Schlagzeug, Chorgesang=0D=0A=0D=0AOlaf Kuchenbecker - Bassgitarre=0D=0A=0D=0AThomas Butt - Sologitarre, Gesang=0D=0A=0D=0AFotos: Katharina Voss - Photography=0D=0A=0D=0AKontakt: =0D=0A=0D=0Ahttp://www.suzieandthefireballs.de/ =0D=0A[https://www.suzieandthefireballs.de/] =0D=0A
URL;VALUE=URI:https://hamburgwhl.infomaxnet.de/planten-un-blomen/e-suzie-the-fireballs-1?eventDateId=30042465&widgetToken=wRR-AnDwRb0.&
CLASS:PUBLIC
DTSTART:20260510T150000
DTSTAMP:20260422T035316
END:VEVENT
END:VCALENDAR