BEGIN:VCALENDAR
VERSION:2.0
PRODID:http://www.infomax-online.de/imxeventmanager/
METHOD:PUBLISH
BEGIN:VTIMEZONE
TZID:Europe/Berlin
TZURL:http://tzurl.org/zoneinfo-outlook/Europe/Berlin
X-LIC-LOCATION:Europe/Berlin
END:VTIMEZONE
BEGIN:VEVENT
UID:69e54c9ece7b0
LOCATION:St. Petersburger Straße , 20355 Hamburg
SUMMARY;ENCODING=QUOTED-PRINTABLE:Worship Festival Hamburg
DESCRIPTION;ENCODING=QUOTED-PRINTABLE:_WORSHIP FESTIVAL HAMBURG_=0D=0A=0D=0A_Samstag, 04.07.2026 / 15:00–22:00 Uhr / Planten un Blomen=0D=0A(Musikpavillon)_=0D=0A=0D=0AFreier Eintritt=0D=0A=0D=0ABands, Musiker und ein Kids-Programm aus verschiedenen Kirchen und=0D=0AGemeinden Hamburgs feiern das Worship Festival – und alle sind=0D=0Aeingeladen, dabei zu sein.=0D=0A=0D=0ADas Worship Festival Hamburg – was gibt es besseres, als an diesem=0D=0AOrt coole und frische Musik zu genießen!=0D=0A
URL;VALUE=URI:https://hamburgwhl.infomaxnet.de/planten-un-blomen/e-worship-festival-hamburg?eventDateId=30042459&widgetToken=wRR-AnDwRb0.&
CLASS:PUBLIC
DTSTART:20260704T150000
DTSTAMP:20260419T234358
END:VEVENT
END:VCALENDAR