BEGIN:VCALENDAR
VERSION:2.0
PRODID:http://www.infomax-online.de/imxeventmanager/
METHOD:PUBLISH
BEGIN:VTIMEZONE
TZID:Europe/Berlin
TZURL:http://tzurl.org/zoneinfo-outlook/Europe/Berlin
X-LIC-LOCATION:Europe/Berlin
END:VTIMEZONE
BEGIN:VEVENT
UID:69e8150daf709
LOCATION:St. Petersburger Straße , 20355 Hamburg
SUMMARY;ENCODING=QUOTED-PRINTABLE:Wasserlichtkonzerte
DESCRIPTION;ENCODING=QUOTED-PRINTABLE: =0D=0A=0D=0AFASZINATION AUS WASSER, LICHT UND MUSIK=0D=0A=0D=0AAB 01. MAI 2026 FINDEN=0D=0ADIE FARBIGEN ABENDBLICHEN WASSERLICHTKONZERTE WIEDER STATT.=0D=0A=0D=0AUm 16:00 und 18:00 Uhr finden täglich Wasserspiele am Parksee (ohne=0D=0ALicht und ohne Musik) statt.=0D=0A=0D=0A_WASSERLICHTKONZERTE UM 22:00 UHR_=0D=0A=0D=0A	* 01.-15. MAI          Von Sibelius über Tschaikowski bis=0D=0ARachmaninow;Arr. Tanja Naini=0D=0A	* 16.-31. MAI          Japan by night; Arr. Hector González=0D=0APino=0D=0A	* 01.-15. JUNI         L’art de la Danse; Arr. Hector=0D=0AGonzález Pino=0D=0A	* 16.-30. JUNI         Tansania; Arr. Birgit Winzler=0D=0A	* 01.-15. JULI          Reverie und Bacchanal; Arr. Hector=0D=0AGonzález Pino=0D=0A	* 16.-31. JULI          New Sounds; Arr. Hector González Pino=0D=0A	* 01.-15. AUGUST    L’art de la Danse; Arr. Hector González=0D=0APino=0D=0A	* 16.-31. AUGUST    Cinema; Arr. Hector González Pino=0D=0A=0D=0A_WASSERLICHTKONZERTE UM 21:00 UHR_=0D=0A=0D=0A	* 01.-15. SEPTEMBER    Tansania; Arr. Hector González Pino=0D=0A	* 16.-30. SEPTEMBER    New Sounds; Arr. Hector González Pino=0D=0A=0D=0A =0D=0A=0D=0A =0D=0A
URL;VALUE=URI:https://hamburgwhl.infomaxnet.de/planten-un-blomen/e-wasserlichtkonzerte-finden-ab-di-den-0609-wieder-statt?eventDateId=30033346&widgetToken=wRR-AnDwRb0.&
CLASS:PUBLIC
DTSTART:20260504T220000
DTSTAMP:20260422T022341
END:VEVENT
END:VCALENDAR