BEGIN:VCALENDAR
VERSION:2.0
PRODID:http://www.infomax-online.de/imxeventmanager/
METHOD:PUBLISH
BEGIN:VTIMEZONE
TZID:Europe/Berlin
TZURL:http://tzurl.org/zoneinfo-outlook/Europe/Berlin
X-LIC-LOCATION:Europe/Berlin
END:VTIMEZONE
BEGIN:VEVENT
UID:69e829f754299
LOCATION:St. Petersburger Straße , 20355 Hamburg
SUMMARY;ENCODING=QUOTED-PRINTABLE:Konzert: "Bucerius Big Band"
DESCRIPTION;ENCODING=QUOTED-PRINTABLE:BUCERIUS BIG BAND=0D=0A=0D=0ASeit über 15 Jahren musizieren in der Bucerius Big Band Studierende=0D=0Aund Alumni der Bucerius Law School.  =0D=0A=0D=0AUnter der professionellen Leitung von Edgar Herzog steht die Bucerius=0D=0ABig Band das zweite Jahr in Folge auf der Freilichtbühne in=0D=0APlanten un Blomen. Das Programm reicht von Swing- und=0D=0AJazzklassikern bis zu modernen Pop-Titeln. Individuelle Adaptionen von=0D=0AEdgar Herzog sorgen dabei für einen unverwechselbaren Klang. =0D=0A=0D=0AZu den Highlights in der Geschichte der Bucerius Big Band zählen=0D=0AAuftritte zum 95. Geburtstag von Helmut Schmidt (live übertragen im=0D=0ANDR), beim Bundesverfassungsgericht anlässlich der Feierlichkeiten=0D=0Azum 70-jährigen Bestehen des Grundgesetzes sowie ein gemeinsames=0D=0AKonzert mit der ETH Big Band auf der MS Stubnitz.=0D=0AAußerdem nahm die Band am Deutschen Orchesterwettbewerb 2025 in=0D=0AWiesbaden/Mainz teil. =0D=0A=0D=0A =0D=0A=0D=0ADATUM: 31.05.2026=0D=0A=0D=0AUHRZEIT: 15 Uhr=0D=0A=0D=0AORT: Musikpavillon=0D=0A=0D=0A =0D=0A=0D=0A =0D=0A=0D=0A =0D=0A
URL;VALUE=URI:https://hamburgwhl.infomaxnet.de/planten-un-blomen/e-to-soma-1?eventDateId=29983116&widgetToken=wRR-AnDwRb0.&
CLASS:PUBLIC
DTSTART:20260531T150000
DTSTAMP:20260422T035255
END:VEVENT
END:VCALENDAR