BEGIN:VCALENDAR
VERSION:2.0
PRODID:http://www.infomax-online.de/imxeventmanager/
METHOD:PUBLISH
BEGIN:VTIMEZONE
TZID:Europe/Berlin
TZURL:http://tzurl.org/zoneinfo-outlook/Europe/Berlin
X-LIC-LOCATION:Europe/Berlin
END:VTIMEZONE
BEGIN:VEVENT
UID:69eaa5ae05822
LOCATION:Poststraße 4, 21227 Bendestorf
SUMMARY;ENCODING=QUOTED-PRINTABLE:Familien-Kräuterwanderung
DESCRIPTION;ENCODING=QUOTED-PRINTABLE:Interessiert ihr euch auch für Wildpflanzen und Heilkräuter?=0D=0A=0D=0ALasst uns gemeinsam heimische Wildkräuter in ihrer natürlichen=0D=0AUmgebung entdecken!=0D=0ADie Kräuterpädagogin Kasia zeigt uns, wie man Wildkräuter erkennt,=0D=0Asammelt und verarbeitet.=0D=0AWir erfahren, welche Kräuter Saison haben und wofür sie verwendet=0D=0Awerden können.=0D=0AZwischendurch erwartet uns ein Mini-Workshop, in dem wir ein=0D=0Akulinarisches Produkt herstellen.=0D=0AWir treffen uns am Makens Huus.=0D=0ADie Teilnehmerzahl ist auf 30 Personen begrenzt.=0D=0A
URL;VALUE=URI:https://hamburgwhl.infomaxnet.de/juni/e-familien-kraeuterwanderung-1?eventDateId=30153734&widgetToken=Svb7dpvtct0.&
CLASS:PUBLIC
DTSTART:20260426T103000
DTSTAMP:20260424T010518
END:VEVENT
END:VCALENDAR