BEGIN:VCALENDAR
VERSION:2.0
PRODID:http://www.infomax-online.de/imxeventmanager/
METHOD:PUBLISH
BEGIN:VTIMEZONE
TZID:Europe/Berlin
TZURL:http://tzurl.org/zoneinfo-outlook/Europe/Berlin
X-LIC-LOCATION:Europe/Berlin
END:VTIMEZONE
BEGIN:VEVENT
UID:69ea250693511
LOCATION:Schweriner Straße 14, 22143 Hamburg
SUMMARY;ENCODING=QUOTED-PRINTABLE:Flohmarkt auf den Wandseterrassen
DESCRIPTION;ENCODING=QUOTED-PRINTABLE:Unser Flohmarkt auf den Wandseterrassen in Rahlstedt ist ein=0D=0Alebendiger Treffpunkt für alle, die gern stöbern, handeln und kleine=0D=0ASchätze entdecken. Zwischen entspannten Spazierwegen und grüner=0D=0AUmgebung verwandelt sich die Fläche in ein buntes Mosaik aus=0D=0AStänden: von Vintage-Kleidung über Haushaltsfundstücke bis hin zu=0D=0Aliebevoll ausgewählten Einzelstücken.=0D=0A=0D=0AHier geht es nicht nur ums Kaufen, sondern auch ums Plaudern,=0D=0AFeilschen und Genießen – ein Ort, an dem Nachbarschaft auf=0D=0ASchatzsuche trifft und jeder Besuch ein kleines Abenteuer bereithält.=0D=0A=0D=0AWann? - 09.05.2026 | 10:00-15:00 Uhr=0D=0A=0D=0AWo? - Wandseterrassen Rahlstedt | Schweriner Str. 14, 22143 Hamburg=0D=0A=0D=0AStandanmeldungen können über folgende E-Mail erfolgen:=0D=0A=0D=0Avorstand@rahlstedter-netz.de=0D=0A
URL;VALUE=URI:https://hamburgwhl.infomaxnet.de/flohmarkt-mai/e-flohmarkt-auf-den-wandseterrassen-2?eventDateId=30143268&widgetToken=JA1Ug8GbUW0.&
CLASS:PUBLIC
DTSTART:20260509T100000
DTSTAMP:20260423T155622
END:VEVENT
END:VCALENDAR