BEGIN:VCALENDAR
VERSION:2.0
PRODID:http://www.infomax-online.de/imxeventmanager/
METHOD:PUBLISH
BEGIN:VTIMEZONE
TZID:Europe/Berlin
TZURL:http://tzurl.org/zoneinfo-outlook/Europe/Berlin
X-LIC-LOCATION:Europe/Berlin
END:VTIMEZONE
BEGIN:VEVENT
UID:69ea4c94b8f0e
LOCATION:Alstertor 1, 20095 Hamburg
SUMMARY;ENCODING=QUOTED-PRINTABLE:Hard Times
DESCRIPTION;ENCODING=QUOTED-PRINTABLE:_Hard Times_ entfaltet die industrialisierte Welt des 19.=0D=0AJahrhunderts anhand eines Panoramas der düster-rauchenden Stadt=0D=0ACoketown. Der nüchterne Fabrikant Gradgrind erzieht seine Kinder=0D=0ALuisa und Tom nach dem Prinzip der reinen Vernunft. Mit ihnen wächst=0D=0Adas warmherzige Zirkusmädchen Sissy auf. Luisa heiratet pragmatisch=0D=0Aund lieblos den selbstgefälligen Banker Bounderby. Tom, der zunehmend=0D=0Averroht, gerät auf die schiefe Bahn. Und auch der ehrliche Arbeiter=0D=0ABlackpool wird zermahlen von einem System, das weder Not noch Moral=0D=0Aoder Würde kennt.=0D=0A=0D=0ACharles Dickens erzählt eine Geschichte von Profitdenken, sozialer=0D=0AUngleichheit und menschlicher Entfremdung. Er zeichnet eine Welt, in=0D=0Ader Gefühle als Schwäche gelten und nur zählt, was messbar ist:=0D=0AFakten und Nutzen. Schwere Zeiten für jede einzelne der vielen=0D=0AFiguren, die an der Gefühlskälte dieser bürgerlichen Ideologie=0D=0Azerbrechen – aber auch die Chance für eine zarte, starke Kraft, die=0D=0Ain ihnen allen steckt, sich dagegen aufbäumt und Hoffnung gibt: die=0D=0ASehnsucht des Menschen nach Kreativität, Herzenswärme und=0D=0AVerbundenheit.=0D=0A=0D=0ARegisseur Antú Romero Nunes wirft einen liebe- und humorvollen Blick=0D=0Aauf eine Gesellschaft, die Zahlen über Herzen stellt – und begibt=0D=0Asich musikalisch und mit großem Ensemble auf die Suche nach=0D=0APhantasie, Empathie und Solidarität.=0D=0A
URL;VALUE=URI:https://hamburgwhl.infomaxnet.de/flohmarkt-maerz/e-hard-times?eventDateId=30189222&widgetToken=4Jn51YkZ2k8.&
CLASS:PUBLIC
DTSTART:20260428T193000
DTSTAMP:20260423T184508
END:VEVENT
END:VCALENDAR