BEGIN:VCALENDAR
VERSION:2.0
PRODID:http://www.infomax-online.de/imxeventmanager/
METHOD:PUBLISH
BEGIN:VTIMEZONE
TZID:Europe/Berlin
TZURL:http://tzurl.org/zoneinfo-outlook/Europe/Berlin
X-LIC-LOCATION:Europe/Berlin
END:VTIMEZONE
BEGIN:VEVENT
UID:69ea362df35f4
LOCATION:Gaußstraße 190, 22765 Hamburg
SUMMARY;ENCODING=QUOTED-PRINTABLE:Der König stirbt
DESCRIPTION;ENCODING=QUOTED-PRINTABLE:Der König stirbt. Eigentlich ist sein Tod längst überfällig. Der=0D=0AStaat ruiniert, die Wirtschaft am Boden, die Außenbeziehungen=0D=0Azerrüttet – Zeit abzudanken und anderen das Ruder zu überlassen.=0D=0ADoch je dringlicher die Königinnen und der verbliebene Hofstaat=0D=0Aversuchen, dem Herrscher die Realität näherzubringen, desto=0D=0Aentschiedener weigert sich dieser, das Unvermeidliche zu akzeptieren.=0D=0AEr klammert sich an seine Rolle, seine Bedeutung, seine Sprache,=0D=0Awährend seine Welt Stück für Stück zerfällt.=0D=0A=0D=0AIn Jessica Weisskirchens Inszenierung wird das absurde Spiel über=0D=0AVergänglichkeit, Macht und Kontrollverlust aus Ionescos Meisterwerk=0D=0Ades absurden Theaters zur bitterkomischen Bestandsaufnahme unserer=0D=0AGegenwart. Denn während wir gern vom Ende alter Machtfiguren=0D=0Asprechen, erweisen sie sich realpolitisch als erstaunlich lebendig.=0D=0AWeltweit gewinnen autoritäre Figuren und die Machtfantasien einer=0D=0Aalten Ordnung wieder an Einfluss. Todgesagte leben länger – und=0D=0Amanche wirken unsterblicher denn je.=0D=0A=0D=0ADer König wird so zur Figur unserer Zeit: ein Herrscher, der sich=0D=0Aselbst beim Untergang zusieht und dennoch nicht abtritt. Ein Abend=0D=0Aüber Machtfantasien, Verdrängung und die Angst vor Bedeutungsverlust=0D=0A– und über all die Könige unserer Zeit, die einfach nicht gehen=0D=0Awollen.=0D=0A
URL;VALUE=URI:https://hamburgwhl.infomaxnet.de/flohmarkt-maerz/e-der-koenig-stirbt?eventDateId=30182718&widgetToken=4Jn51YkZ2k8.&
CLASS:PUBLIC
DTSTART:20260425T200000
DTSTAMP:20260423T170933
END:VEVENT
END:VCALENDAR