BEGIN:VCALENDAR
VERSION:2.0
PRODID:http://www.infomax-online.de/imxeventmanager/
METHOD:PUBLISH
BEGIN:VTIMEZONE
TZID:Europe/Berlin
TZURL:http://tzurl.org/zoneinfo-outlook/Europe/Berlin
X-LIC-LOCATION:Europe/Berlin
END:VTIMEZONE
BEGIN:VEVENT
UID:69ea4c0bb2b38
LOCATION:Gaußstraße 190, 22765 Hamburg
SUMMARY;ENCODING=QUOTED-PRINTABLE:Flex bis 6
DESCRIPTION;ENCODING=QUOTED-PRINTABLE:Vom 28.-30. April 26 erobern an drei Tagen Kinder das Thalia in der=0D=0AGaußstraße. Bis zu 16 Schulgruppen der Jahrgänge 1 bis 6=0D=0Apräsentieren ihre Eigenproduktionen: gespielte Bilderbücher,=0D=0AMärchenadaptionen, Tanz-, Bewegungs- oder Musiktheater=0D=0A=0D=0A =0D=0A=0D=0A_Das Hamburger Schultheaterfestival FLEX BIS 6 ist eine Kooperation=0D=0Ader Behörde für Schule, Familie und Berufsbildung (BSFB), dem=0D=0ALandesinstitut für Lehrerbildung (LI) und dem Thalia Theater._=0D=0A
URL;VALUE=URI:https://hamburgwhl.infomaxnet.de/flohmarkt-maerz/e-flex-bis-6?eventDateId=30179556&widgetToken=4Jn51YkZ2k8.&
CLASS:PUBLIC
DTSTART:20260428T093000
DTSTAMP:20260423T184251
END:VEVENT
END:VCALENDAR