BEGIN:VCALENDAR
VERSION:2.0
PRODID:http://www.infomax-online.de/imxeventmanager/
METHOD:PUBLISH
BEGIN:VTIMEZONE
TZID:Europe/Berlin
TZURL:http://tzurl.org/zoneinfo-outlook/Europe/Berlin
X-LIC-LOCATION:Europe/Berlin
END:VTIMEZONE
BEGIN:VEVENT
UID:69ea10ae37eee
LOCATION:Alstertor 1, 20095 Hamburg
SUMMARY;ENCODING=QUOTED-PRINTABLE:DARE! in den Mai
DESCRIPTION;ENCODING=QUOTED-PRINTABLE:... the 80s gay club=0D=0A=0D=0APop & Wave | Italo-Disco | Dance Classics=0D=0A=0D=0Amit DJ Wobo=0D=0A=0D=0AFrankie say "Love Will Save The May"=0D=0A=0D=0AAm 30. April wollen wir mit Euch in den Mai tanzen!=0D=0A=0D=0AFür den Sound der 1980er steht DJ Wobo am Mischer: Synth Pop, New=0D=0AWave, Edel Pop und Italo Disco, sowie Dance Classics stehen auf der=0D=0APlaylist.=0D=0A=0D=0AAb 22:30 Uhr stehen die Crew des Nachtasyl sowie das DARE! Team für=0D=0Aunserer Schwule Community bereit.=0D=0A=0D=0AFreut Euch auf einen bunten Abend und die queeren Heros der 80s:=0D=0AERASURE, JIMMY SOMERVILLE, EURYTHMICS und MADONNA sowie auf WHITNEY=0D=0AHOUSTON und viele andere mehr.=0D=0A=0D=0AWir freuen uns auf Euch!=0D=0A
URL;VALUE=URI:https://hamburgwhl.infomaxnet.de/flohmarkt-maerz/e-dare-in-den-mai-2?eventDateId=30171610&widgetToken=4Jn51YkZ2k8.&
CLASS:PUBLIC
DTSTART:20260430T223000
DTSTAMP:20260423T142934
END:VEVENT
END:VCALENDAR