BEGIN:VCALENDAR
VERSION:2.0
PRODID:http://www.infomax-online.de/imxeventmanager/
METHOD:PUBLISH
BEGIN:VTIMEZONE
TZID:Europe/Berlin
TZURL:http://tzurl.org/zoneinfo-outlook/Europe/Berlin
X-LIC-LOCATION:Europe/Berlin
END:VTIMEZONE
BEGIN:VEVENT
UID:69e9c9f185d57
LOCATION:Große Bergstraße 164, 22767 Hamburg
SUMMARY;ENCODING=QUOTED-PRINTABLE:Benefiz Poetry Slam
DESCRIPTION;ENCODING=QUOTED-PRINTABLE:Sei dabei beim Benefiz Poetry Slam – mit großartigen und mehrfach=0D=0Aausgezeichneten Künstler:innen und einer guten Sache im Mittelpunkt.=0D=0A=0D=0AErlebe einen besonderen Abend bei IKEA Hamburg-Altona:=0D=0A=0D=0ABeim Benefiz Poetry Slam treffen starke Live‑Performances auf ein=0D=0Agemeinsames Ziel. Einige der talentiertesten Slam‑Poet:innen aus=0D=0AHamburg und der Region stehen auf der Bühne und sorgen für einen=0D=0AAbend voller Energie, Kreativität und Wortkunst.=0D=0A=0D=0ADas Beste: Mit deiner Teilnahme unterstützt du automatisch den guten=0D=0AZweck.=0D=0A=0D=0AFür jede Besucherin und jeden Besucher spendet IKEA Hamburg 5€ an=0D=0Aden Kinderschutzbund Hamburg.=0D=0A=0D=0AZusätzliche Spenden am Abend sind willkommen – jede Hilfe kommt=0D=0Adirekt Kindern, Jugendlichen und Familien in Hamburg zugute.=0D=0A=0D=0ATreffpunkt: Schwedenrestaurant | Einlass ab 18:30 Uhr=0D=0A=0D=0AKomm vorbei und sei Teil eines Abends, der bewegt – kulturell und=0D=0Asozial.=0D=0A=0D=0AWir freuen uns auf dich!=0D=0A=0D=0AKostenlos - Keine Anmeldung erforderlich=0D=0A
URL;VALUE=URI:https://hamburgwhl.infomaxnet.de/flohmarkt-maerz/e-benefiz-poetry-slam?eventDateId=30154684&widgetToken=4Jn51YkZ2k8.&
CLASS:PUBLIC
DTSTART:20260423T190000
DTSTAMP:20260423T092745
END:VEVENT
END:VCALENDAR