BEGIN:VCALENDAR
VERSION:2.0
PRODID:http://www.infomax-online.de/imxeventmanager/
METHOD:PUBLISH
BEGIN:VTIMEZONE
TZID:Europe/Berlin
TZURL:http://tzurl.org/zoneinfo-outlook/Europe/Berlin
X-LIC-LOCATION:Europe/Berlin
END:VTIMEZONE
BEGIN:VEVENT
UID:69ea6034881a0
LOCATION:Ferdinandstraße 21 , 20095 Hamburg
SUMMARY;ENCODING=QUOTED-PRINTABLE:Popchor Doppelpack / Singasong u. flow
DESCRIPTION;ENCODING=QUOTED-PRINTABLE:Die beiden Popchöre Singasong und flow präsentieren modernes=0D=0AReperoire teils in eigenen Arrangements, die nirgendwo anders zu=0D=0Ahören sind. Von Radiohead oder David Bowie bis Bruno Mars wird alles=0D=0Agesungen, was das Popherz begehrt. Mal mit, mal ohne Beatbox oder=0D=0APianobegleitung aber immer mit der vollen Ladung Sangesfreude. Freut=0D=0Aeuch auf insgesamt 80 groovende Sängerinnen und Sänger.=0D=0Awww.popchor-singasong.de / Ltg.: Carsten Creutzburg www.chor-flow.de /=0D=0ALtg.: Anne Niemann Tickets:=0D=0Ahttps://www.tixforgigs.com/de-DE/Event/72207/popchordoppel-popchor-singasong-flow-evangelisch-reformierte-kirche-hamburg=0D=0AWo: Evangelisch reformierte Kirche, Ferdinandstraße 21, 20095 Hamburg=0D=0AWann: 25.04.26 um 19:30=0D=0A
URL;VALUE=URI:https://hamburgwhl.infomaxnet.de/flohmarkt-maerz/e-popchor-doppelpack-singasong-u-flow?eventDateId=30143458&widgetToken=4Jn51YkZ2k8.&
CLASS:PUBLIC
DTSTART:20260425T193000
DTSTAMP:20260423T200852
END:VEVENT
END:VCALENDAR