BEGIN:VCALENDAR
VERSION:2.0
PRODID:http://www.infomax-online.de/imxeventmanager/
METHOD:PUBLISH
BEGIN:VTIMEZONE
TZID:Europe/Berlin
TZURL:http://tzurl.org/zoneinfo-outlook/Europe/Berlin
X-LIC-LOCATION:Europe/Berlin
END:VTIMEZONE
BEGIN:VEVENT
UID:69ea7c6d07001
LOCATION:Jakobikirchhof 22, 20095 Hamburg
SUMMARY;ENCODING=QUOTED-PRINTABLE:PilgerCafé am Abend „Nicht religiös, aber spirituell?“
DESCRIPTION;ENCODING=QUOTED-PRINTABLE:Dr. Johann Hinrich Claussen, Kulturbeauftragter des Rates der EKD zum=0D=0AUnterschied von Religiosität und Spiritualität=0D=0A=0D=0A„Ich bin nicht religiös – aber spirituell.“ Ein Satz, den man=0D=0Aimmer öfter hört. Doch was heißt das eigentlich?=0D=0A=0D=0AZwischen Sehnsucht und Skepsis, Tradition und individueller Sinnsuche=0D=0Abewegen sich viele von uns.=0D=0A=0D=0ADie Grundfragen des Lebens lassen sich sehr unterschiedlich=0D=0Abeantworten. Und doch scheint fast immer etwas mitzuschwingen, das wir=0D=0Afrüher „Religion“ genannt hätten. Oder trifft der Begriff=0D=0A„Spiritualität“ es besser?=0D=0A=0D=0AUnd was davon wäre eigentlich christlich geprägt?=0D=0A=0D=0ADie eigene Haltung zum Leben in Worte zu fassen, ist nicht leicht –=0D=0Aaber lohnend.=0D=0A=0D=0AIm PilgerCafé laden wir ein zum Gespräch:=0D=0A=0D=0Aoffen, suchend, respektvoll.=0D=0A=0D=0AFür Zweifelnde, Glaubende, Fragende=0D=0A=0D=0A– und alle dazwischen.=0D=0A=0D=0AOrt: Gemeindesaal in der Hauptkirche St. Jacobi=0D=0A
URL;VALUE=URI:https://hamburgwhl.infomaxnet.de/flohmarkt-maerz/e-pilgercafe-am-abend-nicht-religioes-aber-spirituell?eventDateId=30132177&widgetToken=4Jn51YkZ2k8.&
CLASS:PUBLIC
DTSTART:20260424T170000
DTSTAMP:20260423T220917
END:VEVENT
END:VCALENDAR