BEGIN:VCALENDAR
VERSION:2.0
PRODID:http://www.infomax-online.de/imxeventmanager/
METHOD:PUBLISH
BEGIN:VTIMEZONE
TZID:Europe/Berlin
TZURL:http://tzurl.org/zoneinfo-outlook/Europe/Berlin
X-LIC-LOCATION:Europe/Berlin
END:VTIMEZONE
BEGIN:VEVENT
UID:69ea6a454c955
LOCATION:Ferdinandstraße 12, 20095 Hamburg
SUMMARY;ENCODING=QUOTED-PRINTABLE:DanceAlong
DESCRIPTION;ENCODING=QUOTED-PRINTABLE:Eine Veranstaltung der Reihe DanceAlong | Die große Mittanz-Party=0D=0A=0D=0ADanceAlong – Die große Mittanz-Party lädt dich ein, gemeinsam mit=0D=0Aeinem ganzen Club zu den besten Kultsongs und Party-Klassikern zu=0D=0Atanzen und dabei pure Energie zu erleben!=0D=0A=0D=0AUnsere "Danceatorinnen" auf der Bühne und die geniale Songauswahl=0D=0Asorgen für ein unvergessliches Mittanz-Erlebnis! Die super einfachen=0D=0AMoves werden kurz vorgezeigt und unsere animierte Dance-Fee tanzt als=0D=0ASpickzettel auf einer großen Leinwand für euch mit.=0D=0A=0D=0AAnders als im normalen Club stehst du hier nicht awkward mit dem Drink=0D=0Aam Rand, sondern tanzt komplett ohne Leistungsdruck und synchron mit=0D=0Ahunderten Gleichgesinnten.=0D=0A=0D=0ATauche aus dem Alltag ab, schalte den Kopf aus und lass dich vom=0D=0Agemeinsamen Beat mitreißen!=0D=0A=0D=0ASichere dir jetzt allein oder gemeinsam mit Freund:innen dein Ticket=0D=0Afür dancealong und freu dich auf eine unvergessliche Nacht, bei der=0D=0Awirklich alle mitmachen.=0D=0A=0D=0AAchtung: Die Plätze sind begrenzt – sichere dir frühzeitig dein=0D=0ATicket für dieses einzigartige Mittanz-Event!=0D=0A=0D=0AEinlass: 19:15 Uhr | Beginn: 20:00 Uhr.=0D=0A=0D=0AHigh Heels sehen gut aus - Sneakers tanzen besser.=0D=0A
URL;VALUE=URI:https://hamburgwhl.infomaxnet.de/flohmarkt-maerz/e-dancealong-1?eventDateId=30118255&widgetToken=4Jn51YkZ2k8.&
CLASS:PUBLIC
DTSTART:20260429T200000
DTSTAMP:20260423T205149
END:VEVENT
END:VCALENDAR