BEGIN:VCALENDAR
VERSION:2.0
PRODID:http://www.infomax-online.de/imxeventmanager/
METHOD:PUBLISH
BEGIN:VTIMEZONE
TZID:Europe/Berlin
TZURL:http://tzurl.org/zoneinfo-outlook/Europe/Berlin
X-LIC-LOCATION:Europe/Berlin
END:VTIMEZONE
BEGIN:VEVENT
UID:69ea558178d06
LOCATION:Altländer Straße 12, 20095 Hamburg
SUMMARY;ENCODING=QUOTED-PRINTABLE:BANGERS - MAI WANT IT THAT WAY
DESCRIPTION;ENCODING=QUOTED-PRINTABLE:BANGERS tanzt in den Mai=0D=0A=0D=0ADer Winter ist vorbei und wir feiern den Beginn der geilen Hälfte des=0D=0AJahres. =0D=0AFreu dich auf eine Nacht voller 80s, 90s & 2000s Hits, die du liebst,=0D=0Akennst und garantiert nicht unbetanzt lassen kannst.=0D=0A=0D=0AVon Pop bis Eurodance, von Throwbacks bis All-Time-Favorites, wir=0D=0Abringen den Soundtrack für eine wilde, lebensfrohe Nacht.=0D=0A=0D=0AAuch diesmal wird Bangers mitreißend, nostalgisch und stark tanzbar.=0D=0AIn die Ecke mit deinem Wintermantel, schnapp dir deine Crew und feier=0D=0Amit uns bis in den Mai hinein!=0D=0A=0D=0ASonnige Grüße,=0D=0A=0D=0Aeure BB=0D=0A
URL;VALUE=URI:https://hamburgwhl.infomaxnet.de/flohmarkt-maerz/e-bangers-mai-want-it-that-way?eventDateId=30102019&widgetToken=4Jn51YkZ2k8.&
CLASS:PUBLIC
DTSTART:20260430T220000
DTSTAMP:20260423T192313
END:VEVENT
END:VCALENDAR