BEGIN:VCALENDAR
VERSION:2.0
PRODID:http://www.infomax-online.de/imxeventmanager/
METHOD:PUBLISH
BEGIN:VTIMEZONE
TZID:Europe/Berlin
TZURL:http://tzurl.org/zoneinfo-outlook/Europe/Berlin
X-LIC-LOCATION:Europe/Berlin
END:VTIMEZONE
BEGIN:VEVENT
UID:69ea944322465
LOCATION:Jakobikirchhof 22, 20095 Hamburg
SUMMARY;ENCODING=QUOTED-PRINTABLE:Gottesdienst an Rogate mit Kammerchor Jeunesse Berlin
DESCRIPTION;ENCODING=QUOTED-PRINTABLE:mit Werken von Johannes Brahms, Heinrich Schütz und Improvisationen=0D=0A=0D=0ALEITUNG=0D=0A=0D=0AGerhard Löffler - Leitung und Art-Schnitger-Orgel=0D=0A=0D=0AMITWIRKENDE=0D=0A=0D=0AKammerchor Jeunesse Berlin=0D=0A=0D=0AKMD Gerhard Löffler - _Leitung und Arp-Schnitger-Orgel_=0D=0A=0D=0A =0D=0A=0D=0A =0D=0A=0D=0AVERANSTALTER=0D=0A=0D=0A	* Hauptkirche St. Jacobi=0D=0A[https://www.nordkirche.de/institution/?nkci=3472]=0D=0A=0D=0A
URL;VALUE=URI:https://hamburgwhl.infomaxnet.de/flohmarkt-maerz/e-gottesdienst-977-2-1?eventDateId=30093471&widgetToken=4Jn51YkZ2k8.&
CLASS:PUBLIC
DTSTART:20260510T110000
DTSTAMP:20260423T235059
END:VEVENT
END:VCALENDAR