BEGIN:VCALENDAR
VERSION:2.0
PRODID:http://www.infomax-online.de/imxeventmanager/
METHOD:PUBLISH
BEGIN:VTIMEZONE
TZID:Europe/Berlin
TZURL:http://tzurl.org/zoneinfo-outlook/Europe/Berlin
X-LIC-LOCATION:Europe/Berlin
END:VTIMEZONE
BEGIN:VEVENT
UID:69ea945ec0d3b
LOCATION:Bei der Petrikirche 2, 20095 Hamburg
SUMMARY;ENCODING=QUOTED-PRINTABLE:Ökumenische Andacht der Mennonitengemeinde zu Hamburg und Altona
DESCRIPTION;ENCODING=QUOTED-PRINTABLE:An jedem 1. Montag im Monat feiern wir eine Ökumenische Kurzandacht=0D=0Aum 17.15 Uhr. Die Andachten werden von Prediger*innen der=0D=0Averschiedenen christlichen Kirchen und Gemeinden geleitet, die alle=0D=0Azur Arbeitsgemeinschaft Christlicher Kirchen in Hamburg e.V. (ACK)=0D=0Agehören.=0D=0A=0D=0AMehr als dreißig katholische, orthodoxe, altorientalische und=0D=0Aevangelische Kirchen, Freikirchen und Gemeinden arbeiten in der=0D=0AArbeitsgemeinschaft Christlicher Kirchen in Hamburg zusammen unter dem=0D=0ALeitgedanken: "Im Notwendigen Einheit, im Zweifel Freiheit, über=0D=0Aallem die Liebe!"=0D=0A=0D=0AHerzliche Einladung! Lassen Sie sich von der Vielfalt christlichen=0D=0AGlaubens in einer Kurzandacht inspirieren!=0D=0A=0D=0ALEITUNG=0D=0A=0D=0APastor Martin Schmitz-Bethge=0D=0A=0D=0AVERANSTALTER=0D=0A=0D=0A	* Arbeitsgemeinschaft Christlicher Kirchen in Hamburg (ACKH)=0D=0A[https://www.nordkirche.de/institution/?nkci=10513]=0D=0A=0D=0A
URL;VALUE=URI:https://hamburgwhl.infomaxnet.de/flohmarkt-maerz/e-oekumenische-andacht-der-mennonitengemeinde-zu-hamburg-und-altona?eventDateId=30093358&widgetToken=4Jn51YkZ2k8.&
CLASS:PUBLIC
DTSTART:20260601T171500
DTSTAMP:20260423T235126
END:VEVENT
END:VCALENDAR