BEGIN:VCALENDAR
VERSION:2.0
PRODID:http://www.infomax-online.de/imxeventmanager/
METHOD:PUBLISH
BEGIN:VTIMEZONE
TZID:Europe/Berlin
TZURL:http://tzurl.org/zoneinfo-outlook/Europe/Berlin
X-LIC-LOCATION:Europe/Berlin
END:VTIMEZONE
BEGIN:VEVENT
UID:69ea7c8b6343e
LOCATION:Jakobikirchhof 22, 20095 Hamburg
SUMMARY;ENCODING=QUOTED-PRINTABLE:30-Minuten-Orgelmusik
DESCRIPTION;ENCODING=QUOTED-PRINTABLE:_Johann Sebastian Bach, 1685–1750_=0D=0A=0D=0ALIEBSTER JESU, WIR SIND HIER BWV 730 + 731=0D=0A=0D=0ATRIOSONATE D-MOLL BWV 527=0D=0A=0D=0AAndante – Adagio e dolce – Vivace=0D=0A=0D=0ACONCERTO A-MOLL BWV 593=0D=0A=0D=0Anach dem Concerto a-Moll op. 3, Nr. 8=0D=0A=0D=0Afür zwei Violinen und Orchester von Antonio Vivaldi=0D=0A=0D=0A(ohne Bezeichnung) – Adagio – Allegro=0D=0A=0D=0AANMELDUNG ODER VORVERKAUFSSTELLEN=0D=0A=0D=0AEintritt frei!=0D=0A=0D=0AMITWIRKENDE=0D=0A=0D=0A =0D=0A=0D=0A =0D=0A=0D=0AVERANSTALTER=0D=0A=0D=0A	* Hauptkirche St. Jacobi=0D=0A[https://www.nordkirche.de/institution/?nkci=3472]=0D=0A=0D=0A
URL;VALUE=URI:https://hamburgwhl.infomaxnet.de/flohmarkt-maerz/e-30-minuten-orgelmusik-127?eventDateId=30093173&widgetToken=4Jn51YkZ2k8.&
CLASS:PUBLIC
DTSTART:20260430T163000
DTSTAMP:20260423T220947
END:VEVENT
END:VCALENDAR